View In:
ArcGIS JavaScript
ArcGIS Online Map Viewer
ArcGIS Earth
Service Description: LS20240512IDN/PHR_20240517_tif
Name: LS20240512IDN/PHR_20240517_tif
Description:
Single Fused Map Cache: false
Extent:
XMin: 665358.0
YMin: 9944225.999999998
XMax: 679787.0
YMax: 9956444.499999998
Spatial Reference: 32747
(32747)
LatestVCSWkid(0)
Initial Extent:
XMin: 665358.0
YMin: 9944225.999999998
XMax: 679787.0
YMax: 9956444.499999998
Spatial Reference: 32747
(32747)
LatestVCSWkid(0)
Full Extent:
XMin: 665358.0
YMin: 9944225.999999998
XMax: 679787.0
YMax: 9956444.499999998
Spatial Reference: 32747
(32747)
LatestVCSWkid(0)
Pixel Size X: 0.5
Pixel Size Y: 0.5
Band Count: 4
Pixel Type: U16
RasterFunction Infos: {"rasterFunctionInfos": [{
"name": "None",
"description": "",
"help": ""
}]}
Mensuration Capabilities: Basic,Base-Top Shadow Height
Inspection Capabilities:
Has Histograms: true
Has Colormap: false
Has Multi Dimensions : false
Rendering Rule:
Min Scale: 0
Max Scale: 0
Resampling: false
Copyright Text:
Service Data Type: esriImageServiceDataTypeGeneric
Min Values: 0, 0, 0, 0
Max Values: 4095, 4095, 4095, 4095
Mean Values: 415.73139840361, 533.65006648722, 606.92453717337, 1102.2445796248
Standard Deviation Values: 270.5887215338, 261.88052648876, 264.26541561889, 339.56559368816
Object ID Field:
Fields:
None
Default Mosaic Method: Center
Allowed Mosaic Methods:
SortField:
SortValue: null
Mosaic Operator: First
Default Compression Quality: 75
Default Resampling Method: Bilinear
Max Record Count: null
Max Image Height: 4100
Max Image Width: 15000
Max Download Image Count: null
Max Mosaic Image Count: null
Allow Raster Function: true
Allow Copy: true
Allow Analysis: true
Allow Compute TiePoints: false
Supports Statistics: false
Supports Advanced Queries: false
Use StandardizedQueries: true
Raster Type Infos:
Name: Raster Dataset
Description: Supports all ArcGIS Raster Datasets
Help:
Has Raster Attribute Table: false
Edit Fields Info: null
Ownership Based AccessControl For Rasters: null
Child Resources:
Info
Histograms
Statistics
Key Properties
Legend
Raster Function Infos
Supported Operations:
Export Image
Identify
Measure
Compute Histograms
Compute Statistics Histograms
Get Samples
Compute Class Statistics
Query Boundary
Compute Pixel Location
Compute Angles
Validate
Project