{
 "currentVersion": 11.3,
 "serviceDescription": "LS20240512IDN/PHR_20240517_tif",
 "name": "LS20240512IDN/PHR_20240517_tif",
 "description": "",
 "extent": {
  "xmin": 665358,
  "ymin": 9944225.999999998,
  "xmax": 679787,
  "ymax": 9956444.499999998,
  "spatialReference": {
   "wkid": 32747,
   "latestWkid": 32747
  }
 },
 "initialExtent": {
  "xmin": 665358,
  "ymin": 9944225.999999998,
  "xmax": 679787,
  "ymax": 9956444.499999998,
  "spatialReference": {
   "wkid": 32747,
   "latestWkid": 32747
  }
 },
 "fullExtent": {
  "xmin": 665358,
  "ymin": 9944225.999999998,
  "xmax": 679787,
  "ymax": 9956444.499999998,
  "spatialReference": {
   "wkid": 32747,
   "latestWkid": 32747
  }
 },
 "sortableFields": "",
 "bandCount": 4,
 "pixelType": "U16",
 "minValues": [
  0,
  0,
  0,
  0
 ],
 "maxValues": [
  4095,
  4095,
  4095,
  4095
 ],
 "meanValues": [
  415.73139840361,
  533.65006648722,
  606.92453717337,
  1102.2445796248
 ],
 "stdvValues": [
  270.5887215338,
  261.88052648876,
  264.26541561889,
  339.56559368816
 ],
 "hasMultidimensions": false,
 "pixelSizeX": 0.5,
 "pixelSizeY": 0.5,
 "meanPixelSize": 0.5,
 "datasetFormat": "TIFF",
 "uncompressedSize": 5641623568,
 "blockWidth": 128,
 "blockHeight": 128,
 "compressionType": "LZW",
 "bandNames": [
  "Red",
  "Green",
  "Blue",
  "NearInfrared"
 ],
 "allowCopy": true,
 "allowAnalysis": true,
 "itemAccess": false,
 "inspectionCapabilities": "",
 "noDataValue": 65536,
 "noDataValues": [
  65536,
  65536,
  65536,
  65536
 ],
 "minPixelSize": 0,
 "maxPixelSize": 0,
 "copyrightText": "",
 "serviceDataType": "esriImageServiceDataTypeGeneric",
 "serviceSourceType": "esriImageServiceSourceTypeDataset",
 "objectIdField": "",
 "fields": [],
 "capabilities": "Mensuration,Image,Metadata",
 "defaultMosaicMethod": "Center",
 "allowedMosaicMethods": "",
 "sortField": "",
 "sortValue": null,
 "sortAscending": true,
 "mosaicOperator": "First",
 "defaultCompressionQuality": 75,
 "defaultResamplingMethod": "Bilinear",
 "maxImageHeight": 4100,
 "maxImageWidth": 15000,
 "allowRasterFunction": true,
 "rasterFunctionInfos": [
  {
   "name": "None",
   "description": "",
   "help": ""
  }
 ],
 "rasterTypeInfos": [
  {
   "name": "Raster Dataset",
   "description": "Supports all ArcGIS Raster Datasets",
   "help": ""
  }
 ],
 "mensurationCapabilities": "Basic,Base-Top Shadow Height",
 "hasHistograms": true,
 "hasColormap": false,
 "hasRasterAttributeTable": false,
 "minScale": 0,
 "maxScale": 0,
 "exportTilesAllowed": false,
 "supportsStatistics": false,
 "supportsAdvancedQueries": false,
 "editFieldsInfo": null,
 "ownershipBasedAccessControlForRasters": null,
 "allowComputeTiePoints": false,
 "useStandardizedQueries": true,
 "advancedQueryCapabilities": {
  "useStandardizedQueries": true,
  "supportsStatistics": false,
  "supportsOrderBy": false,
  "supportsDistinct": false,
  "supportsPagination": false
 },
 "spatialReference": {
  "wkid": 32747,
  "latestWkid": 32747
 },
 "resampling": false
}
