View In:
ArcGIS JavaScript
ArcGIS Online Map Viewer
ArcGIS Earth
Service Description: EQ20230206SYR
Name: EQ20230206SYR/Latakia_09Feb2023
Description: EQ20230206SYR
Single Fused Map Cache: false
Extent:
XMin: 745534.2852783203
YMin: 3929774.6176757812
XMax: 762561.2852783203
YMax: 3946500.1176757812
Spatial Reference: 32636
(32636)
LatestVCSWkid(0)
Initial Extent:
XMin: 745534.2852783203
YMin: 3929774.6176757812
XMax: 762561.2852783203
YMax: 3946500.1176757812
Spatial Reference: 32636
(32636)
LatestVCSWkid(0)
Full Extent:
XMin: 745534.2852783203
YMin: 3929774.6176757812
XMax: 762561.2852783203
YMax: 3946500.1176757812
Spatial Reference: 32636
(32636)
LatestVCSWkid(0)
Pixel Size X: 0.5
Pixel Size Y: 0.5
Band Count: 4
Pixel Type: U16
RasterFunction Infos: {"rasterFunctionInfos": [{
"name": "None",
"description": "",
"help": ""
}]}
Mensuration Capabilities: Basic,Base-Top Shadow Height
Inspection Capabilities:
Has Histograms: true
Has Colormap: false
Has Multi Dimensions : false
Rendering Rule:
Min Scale: 0
Max Scale: 0
Resampling: false
Copyright Text: CNES (2023), distribution Airbus Defence & Space
Service Data Type: esriImageServiceDataTypeGeneric
Min Values: 0, 0, 0, 0
Max Values: 4095, 4095, 4095, 4095
Mean Values: 330.06089344237, 419.99085079413, 494.00188151106, 782.51435899495
Standard Deviation Values: 212.69129556778, 175.45539894588, 161.43061819445, 433.09092672375
Object ID Field:
Fields:
None
Default Mosaic Method: Center
Allowed Mosaic Methods:
SortField:
SortValue: null
Mosaic Operator: First
Default Compression Quality: 75
Default Resampling Method: Bilinear
Max Record Count: null
Max Image Height: 4100
Max Image Width: 15000
Max Download Image Count: null
Max Mosaic Image Count: null
Allow Raster Function: true
Allow Copy: true
Allow Analysis: true
Allow Compute TiePoints: false
Supports Statistics: false
Supports Advanced Queries: false
Use StandardizedQueries: true
Raster Type Infos:
Name: Raster Dataset
Description: Supports all ArcGIS Raster Datasets
Help:
Has Raster Attribute Table: false
Edit Fields Info: null
Ownership Based AccessControl For Rasters: null
Child Resources:
Info
Histograms
Statistics
Key Properties
Legend
Raster Function Infos
Supported Operations:
Export Image
Identify
Measure
Compute Histograms
Compute Statistics Histograms
Get Samples
Compute Class Statistics
Query Boundary
Compute Pixel Location
Compute Angles
Validate
Project