{
 "currentVersion": 11.3,
 "serviceDescription": "EQ20230206SYR",
 "name": "EQ20230206SYR/Latakia_09Feb2023",
 "description": "EQ20230206SYR",
 "extent": {
  "xmin": 745534.2852783203,
  "ymin": 3929774.6176757812,
  "xmax": 762561.2852783203,
  "ymax": 3946500.1176757812,
  "spatialReference": {
   "wkid": 32636,
   "latestWkid": 32636
  }
 },
 "initialExtent": {
  "xmin": 745534.2852783203,
  "ymin": 3929774.6176757812,
  "xmax": 762561.2852783203,
  "ymax": 3946500.1176757812,
  "spatialReference": {
   "wkid": 32636,
   "latestWkid": 32636
  }
 },
 "fullExtent": {
  "xmin": 745534.2852783203,
  "ymin": 3929774.6176757812,
  "xmax": 762561.2852783203,
  "ymax": 3946500.1176757812,
  "spatialReference": {
   "wkid": 32636,
   "latestWkid": 32636
  }
 },
 "sortableFields": "",
 "bandCount": 4,
 "pixelType": "U16",
 "minValues": [
  0,
  0,
  0,
  0
 ],
 "maxValues": [
  4095,
  4095,
  4095,
  4095
 ],
 "meanValues": [
  330.06089344237,
  419.99085079413,
  494.00188151106,
  782.51435899495
 ],
 "stdvValues": [
  212.69129556778,
  175.45539894588,
  161.43061819445,
  433.09092672375
 ],
 "hasMultidimensions": false,
 "pixelSizeX": 0.5,
 "pixelSizeY": 0.5,
 "meanPixelSize": 0.5,
 "datasetFormat": "TIFF",
 "uncompressedSize": 9113122832,
 "blockWidth": 128,
 "blockHeight": 128,
 "compressionType": "None",
 "bandNames": [
  "Red",
  "Green",
  "Blue",
  "NearInfrared"
 ],
 "allowCopy": true,
 "allowAnalysis": true,
 "itemAccess": false,
 "inspectionCapabilities": "",
 "noDataValue": 65535,
 "noDataValues": [
  65535,
  65535,
  65535,
  65535
 ],
 "minPixelSize": 0,
 "maxPixelSize": 0,
 "copyrightText": "CNES (2023), distribution Airbus Defence & Space",
 "serviceDataType": "esriImageServiceDataTypeGeneric",
 "serviceSourceType": "esriImageServiceSourceTypeDataset",
 "objectIdField": "",
 "fields": [],
 "capabilities": "Mensuration,Image,Metadata",
 "defaultMosaicMethod": "Center",
 "allowedMosaicMethods": "",
 "sortField": "",
 "sortValue": null,
 "sortAscending": true,
 "mosaicOperator": "First",
 "defaultCompressionQuality": 75,
 "defaultResamplingMethod": "Bilinear",
 "maxImageHeight": 4100,
 "maxImageWidth": 15000,
 "allowRasterFunction": true,
 "rasterFunctionInfos": [
  {
   "name": "None",
   "description": "",
   "help": ""
  }
 ],
 "rasterTypeInfos": [
  {
   "name": "Raster Dataset",
   "description": "Supports all ArcGIS Raster Datasets",
   "help": ""
  }
 ],
 "mensurationCapabilities": "Basic,Base-Top Shadow Height",
 "hasHistograms": true,
 "hasColormap": false,
 "hasRasterAttributeTable": false,
 "minScale": 0,
 "maxScale": 0,
 "exportTilesAllowed": false,
 "supportsStatistics": false,
 "supportsAdvancedQueries": false,
 "editFieldsInfo": null,
 "ownershipBasedAccessControlForRasters": null,
 "allowComputeTiePoints": false,
 "useStandardizedQueries": true,
 "advancedQueryCapabilities": {
  "useStandardizedQueries": true,
  "supportsStatistics": false,
  "supportsOrderBy": false,
  "supportsDistinct": false,
  "supportsPagination": false
 },
 "spatialReference": {
  "wkid": 32636,
  "latestWkid": 32636
 },
 "resampling": false
}
