View In:
ArcGIS JavaScript
ArcGIS Online Map Viewer
ArcGIS Earth
Service Description: CE20230417SDN/Khartoum_20230419_PNEO_PanSharp_tif
Name: CE20230417SDN/Khartoum_20230419_PNEO_PanSharp_tif
Description:
Single Fused Map Cache: false
Extent:
XMin: 447633.0
YMin: 1721320.8
XMax: 453663.60000000003
YMax: 1725782.4000000001
Spatial Reference: 32636
(32636)
LatestVCSWkid(0)
Initial Extent:
XMin: 447633.0
YMin: 1721320.8
XMax: 453663.60000000003
YMax: 1725782.4000000001
Spatial Reference: 32636
(32636)
LatestVCSWkid(0)
Full Extent:
XMin: 447633.0
YMin: 1721320.8
XMax: 453663.60000000003
YMax: 1725782.4000000001
Spatial Reference: 32636
(32636)
LatestVCSWkid(0)
Pixel Size X: 0.3000000000000017
Pixel Size Y: 0.30000000000000626
Band Count: 3
Pixel Type: U16
RasterFunction Infos: {"rasterFunctionInfos": [{
"name": "None",
"description": "",
"help": ""
}]}
Mensuration Capabilities: Basic
Inspection Capabilities:
Has Histograms: true
Has Colormap: false
Has Multi Dimensions : false
Rendering Rule:
Min Scale: 0
Max Scale: 0
Resampling: false
Copyright Text:
Service Data Type: esriImageServiceDataTypeGeneric
Min Values: 1, 1, 41
Max Values: 4095, 4095, 4033
Mean Values: 858.89608547212, 774.57133325793, 716.40867183341
Standard Deviation Values: 313.05567982584, 245.78631475266, 173.3816874081
Object ID Field:
Fields:
None
Default Mosaic Method: Center
Allowed Mosaic Methods:
SortField:
SortValue: null
Mosaic Operator: First
Default Compression Quality: 75
Default Resampling Method: Bilinear
Max Record Count: null
Max Image Height: 4100
Max Image Width: 15000
Max Download Image Count: null
Max Mosaic Image Count: null
Allow Raster Function: true
Allow Copy: true
Allow Analysis: true
Allow Compute TiePoints: false
Supports Statistics: false
Supports Advanced Queries: false
Use StandardizedQueries: true
Raster Type Infos:
Name: Raster Dataset
Description: Supports all ArcGIS Raster Datasets
Help:
Has Raster Attribute Table: false
Edit Fields Info: null
Ownership Based AccessControl For Rasters: null
Child Resources:
Info
Histograms
Statistics
Key Properties
Legend
Raster Function Infos
Supported Operations:
Export Image
Identify
Measure
Compute Histograms
Compute Statistics Histograms
Get Samples
Compute Class Statistics
Query Boundary
Compute Pixel Location
Compute Angles
Validate
Project