{
 "currentVersion": 11.3,
 "serviceDescription": "CE20230417SDN/Khartoum_20230419_PNEO_PanSharp_tif",
 "name": "CE20230417SDN/Khartoum_20230419_PNEO_PanSharp_tif",
 "description": "",
 "extent": {
  "xmin": 447633,
  "ymin": 1721320.8,
  "xmax": 453663.60000000003,
  "ymax": 1725782.4000000001,
  "spatialReference": {
   "wkid": 32636,
   "latestWkid": 32636
  }
 },
 "initialExtent": {
  "xmin": 447633,
  "ymin": 1721320.8,
  "xmax": 453663.60000000003,
  "ymax": 1725782.4000000001,
  "spatialReference": {
   "wkid": 32636,
   "latestWkid": 32636
  }
 },
 "fullExtent": {
  "xmin": 447633,
  "ymin": 1721320.8,
  "xmax": 453663.60000000003,
  "ymax": 1725782.4000000001,
  "spatialReference": {
   "wkid": 32636,
   "latestWkid": 32636
  }
 },
 "sortableFields": "",
 "bandCount": 3,
 "pixelType": "U16",
 "minValues": [
  1,
  1,
  41
 ],
 "maxValues": [
  4095,
  4095,
  4033
 ],
 "meanValues": [
  858.89608547212,
  774.57133325793,
  716.40867183341
 ],
 "stdvValues": [
  313.05567982584,
  245.78631475266,
  173.3816874081
 ],
 "hasMultidimensions": false,
 "pixelSizeX": 0.3000000000000017,
 "pixelSizeY": 0.30000000000000626,
 "meanPixelSize": 0.300000000000004,
 "datasetFormat": "TIFF",
 "uncompressedSize": 1793741664,
 "blockWidth": 128,
 "blockHeight": 128,
 "compressionType": "LZW",
 "bandNames": [
  "Band_1",
  "Band_2",
  "Band_3"
 ],
 "allowCopy": true,
 "allowAnalysis": true,
 "itemAccess": false,
 "inspectionCapabilities": "",
 "noDataValue": 65535,
 "noDataValues": [
  65535,
  65535,
  65535
 ],
 "minPixelSize": 0,
 "maxPixelSize": 0,
 "copyrightText": "",
 "serviceDataType": "esriImageServiceDataTypeGeneric",
 "serviceSourceType": "esriImageServiceSourceTypeDataset",
 "objectIdField": "",
 "fields": [],
 "capabilities": "Mensuration,Image,Metadata",
 "defaultMosaicMethod": "Center",
 "allowedMosaicMethods": "",
 "sortField": "",
 "sortValue": null,
 "sortAscending": true,
 "mosaicOperator": "First",
 "defaultCompressionQuality": 75,
 "defaultResamplingMethod": "Bilinear",
 "maxImageHeight": 4100,
 "maxImageWidth": 15000,
 "allowRasterFunction": true,
 "rasterFunctionInfos": [
  {
   "name": "None",
   "description": "",
   "help": ""
  }
 ],
 "rasterTypeInfos": [
  {
   "name": "Raster Dataset",
   "description": "Supports all ArcGIS Raster Datasets",
   "help": ""
  }
 ],
 "mensurationCapabilities": "Basic",
 "hasHistograms": true,
 "hasColormap": false,
 "hasRasterAttributeTable": false,
 "minScale": 0,
 "maxScale": 0,
 "exportTilesAllowed": false,
 "supportsStatistics": false,
 "supportsAdvancedQueries": false,
 "editFieldsInfo": null,
 "ownershipBasedAccessControlForRasters": null,
 "allowComputeTiePoints": false,
 "useStandardizedQueries": true,
 "advancedQueryCapabilities": {
  "useStandardizedQueries": true,
  "supportsStatistics": false,
  "supportsOrderBy": false,
  "supportsDistinct": false,
  "supportsPagination": false
 },
 "spatialReference": {
  "wkid": 32636,
  "latestWkid": 32636
 },
 "resampling": false
}
