View In:
ArcGIS JavaScript
ArcGIS Online Map Viewer
ArcGIS Earth
Service Description: TOGO
Name: Togo/imageClippedTogo
Description: TOGO
Single Fused Map Cache: false
Extent:
XMin: 173329.60308226105
YMin: 1224910.1901669055
XMax: 181597.60308226105
YMax: 1229791.6901669055
Spatial Reference: 32631
(32631)
LatestVCSWkid(0)
Initial Extent:
XMin: 173329.60308226105
YMin: 1224910.1901669055
XMax: 181597.60308226105
YMax: 1229791.6901669055
Spatial Reference: 32631
(32631)
LatestVCSWkid(0)
Full Extent:
XMin: 173329.60308226105
YMin: 1224910.1901669055
XMax: 181597.60308226105
YMax: 1229791.6901669055
Spatial Reference: 32631
(32631)
LatestVCSWkid(0)
Pixel Size X: 0.5
Pixel Size Y: 0.5
Band Count: 4
Pixel Type: U32
RasterFunction Infos: {"rasterFunctionInfos": [{
"name": "None",
"description": "",
"help": ""
}]}
Mensuration Capabilities: Basic
Inspection Capabilities:
Has Histograms: true
Has Colormap: false
Has Multi Dimensions : false
Rendering Rule:
Min Scale: 0
Max Scale: 0
Resampling: false
Copyright Text:
Service Data Type: esriImageServiceDataTypeGeneric
Min Values: 0, 0, 0, 0
Max Values: 78316, 79101, 74119, 79647
Mean Values: 26332.150439466, 21862.842681278, 15405.538162649, 35546.361268937
Standard Deviation Values: 9637.0693460086, 8033.99850056, 7389.7153899981, 5715.4000698204
Object ID Field:
Fields:
None
Default Mosaic Method: Center
Allowed Mosaic Methods:
SortField:
SortValue: null
Mosaic Operator: First
Default Compression Quality: 75
Default Resampling Method: Bilinear
Max Record Count: null
Max Image Height: 4100
Max Image Width: 15000
Max Download Image Count: null
Max Mosaic Image Count: null
Allow Raster Function: true
Allow Copy: true
Allow Analysis: true
Allow Compute TiePoints: false
Supports Statistics: false
Supports Advanced Queries: false
Use StandardizedQueries: true
Raster Type Infos:
Name: Raster Dataset
Description: Supports all ArcGIS Raster Datasets
Help:
Has Raster Attribute Table: false
Edit Fields Info: null
Ownership Based AccessControl For Rasters: null
Child Resources:
Info
Histograms
Statistics
Key Properties
Legend
Raster Function Infos
Supported Operations:
Export Image
Identify
Measure
Compute Histograms
Compute Statistics Histograms
Get Samples
Compute Class Statistics
Query Boundary
Compute Pixel Location
Compute Angles
Validate
Project