{
 "currentVersion": 11.5,
 "serviceDescription": "TOGO",
 "name": "Togo/imageClippedTogo",
 "description": "TOGO",
 "extent": {
  "xmin": 173329.60308226105,
  "ymin": 1224910.1901669055,
  "xmax": 181597.60308226105,
  "ymax": 1229791.6901669055,
  "spatialReference": {
   "wkid": 32631,
   "latestWkid": 32631
  }
 },
 "initialExtent": {
  "xmin": 173329.60308226105,
  "ymin": 1224910.1901669055,
  "xmax": 181597.60308226105,
  "ymax": 1229791.6901669055,
  "spatialReference": {
   "wkid": 32631,
   "latestWkid": 32631
  }
 },
 "fullExtent": {
  "xmin": 173329.60308226105,
  "ymin": 1224910.1901669055,
  "xmax": 181597.60308226105,
  "ymax": 1229791.6901669055,
  "spatialReference": {
   "wkid": 32631,
   "latestWkid": 32631
  }
 },
 "sortableFields": "",
 "bandCount": 4,
 "pixelType": "U32",
 "minValues": [
  0,
  0,
  0,
  0
 ],
 "maxValues": [
  78316,
  79101,
  74119,
  79647
 ],
 "meanValues": [
  26332.150439466,
  21862.842681278,
  15405.538162649,
  35546.361268937
 ],
 "stdvValues": [
  9637.0693460086,
  8033.99850056,
  7389.7153899981,
  5715.4000698204
 ],
 "serviceProperties": "Center<\/MosaicMethod>First<\/MosaicOperator>true<\/SortAscending><\/LockImageID><\/TileOrderField>0<\/TileOrderBase>0.000000<\/AvgImageSpacingX>0.000000<\/AvgImageSpacingY>0.0<\/ViewPointX>0.0<\/ViewPointY>0.0<\/ViewPointDefShiftX>0.0<\/ViewPointDefShiftY>None<\/CompressionMethod>75<\/CompressionQuality>0.010000<\/CompressionTolerance>Bilinear<\/SamplingMethod><\/ImageServiceProperties><\/ImageServer>",
 "allowedFields": "",
 "hasMultidimensions": false,
 "pixelSizeX": 0.5,
 "pixelSizeY": 0.5,
 "meanPixelSize": 0.5,
 "datasetFormat": "TIFF",
 "uncompressedSize": 2583055488,
 "blockWidth": 128,
 "blockHeight": 128,
 "compressionType": "None",
 "bandNames": [
  "Band_1",
  "Band_2",
  "Band_3",
  "Band_4"
 ],
 "allowCopy": true,
 "allowAnalysis": true,
 "itemAccess": false,
 "inspectionCapabilities": "",
 "noDataValue": 65536,
 "noDataValues": [
  65536,
  65536,
  65536,
  65536
 ],
 "minPixelSize": 0,
 "maxPixelSize": 0,
 "copyrightText": "",
 "serviceDataType": "esriImageServiceDataTypeGeneric",
 "serviceSourceType": "esriImageServiceSourceTypeDataset",
 "objectIdField": "",
 "fields": [],
 "capabilities": "Mensuration,Image,Metadata",
 "defaultMosaicMethod": "Center",
 "allowedMosaicMethods": "",
 "sortField": "",
 "sortValue": null,
 "sortAscending": true,
 "mosaicOperator": "First",
 "defaultCompressionQuality": 75,
 "defaultResamplingMethod": "Bilinear",
 "maxImageHeight": 4100,
 "maxImageWidth": 15000,
 "allowRasterFunction": true,
 "rasterFunctionInfos": [
  {
   "name": "None",
   "description": "",
   "help": ""
  }
 ],
 "rasterTypeInfos": [
  {
   "name": "Raster Dataset",
   "description": "Supports all ArcGIS Raster Datasets",
   "help": ""
  }
 ],
 "mensurationCapabilities": "Basic",
 "hasHistograms": true,
 "hasColormap": false,
 "hasRasterAttributeTable": false,
 "minScale": 0,
 "maxScale": 0,
 "exportTilesAllowed": false,
 "supportsStatistics": false,
 "supportsAdvancedQueries": false,
 "editFieldsInfo": null,
 "ownershipBasedAccessControlForRasters": null,
 "allowComputeTiePoints": false,
 "useStandardizedQueries": true,
 "advancedQueryCapabilities": {
  "useStandardizedQueries": true,
  "supportsStatistics": false,
  "supportsOrderBy": false,
  "supportsDistinct": false,
  "supportsPagination": false
 },
 "spatialReference": {
  "wkid": 32631,
  "latestWkid": 32631
 },
 "resampling": false
}
