View In:
ArcGIS JavaScript
ArcGIS Online Map Viewer
ArcGIS Earth
Service Description: CE20220223UKR/Ivankiv_20220227_WV3
Name: CE20220223UKR/Ivankiv_20220227_WV3
Description:
Single Fused Map Cache: false
Extent:
XMin: 703111.2454748154
YMin: 5645452.0214419365
XMax: 705438.1209111214
YMax: 5646640.843255758
Spatial Reference: 32635
(32635)
LatestVCSWkid(0)
Initial Extent:
XMin: 703111.2454748154
YMin: 5645452.0214419365
XMax: 705438.1209111214
YMax: 5646640.843255758
Spatial Reference: 32635
(32635)
LatestVCSWkid(0)
Full Extent:
XMin: 703111.2454748154
YMin: 5645452.0214419365
XMax: 705438.1209111214
YMax: 5646640.843255758
Spatial Reference: 32635
(32635)
LatestVCSWkid(0)
Pixel Size X: 0.4700758457183838
Pixel Size Y: 0.4700758457183838
Band Count: 3
Pixel Type: U8
RasterFunction Infos: {"rasterFunctionInfos": [{
"name": "None",
"description": "",
"help": ""
}]}
Mensuration Capabilities: Basic
Inspection Capabilities:
Has Histograms: true
Has Colormap: false
Has Multi Dimensions : false
Rendering Rule:
Min Scale: 0
Max Scale: 0
Copyright Text:
Service Data Type: esriImageServiceDataTypeRGB
Min Values: 0, 0, 0
Max Values: 255, 255, 255
Mean Values: 77.15500988532, 81.109135403062, 86.626142963845
Standard Deviation Values: 38.932302032499, 38.224987800873, 37.793920435217
Object ID Field:
Fields:
None
Default Mosaic Method: Center
Allowed Mosaic Methods:
SortField:
SortValue: null
Mosaic Operator: First
Default Compression Quality: 75
Default Resampling Method: Bilinear
Max Record Count: null
Max Image Height: 4100
Max Image Width: 15000
Max Download Image Count: null
Max Mosaic Image Count: null
Allow Raster Function: true
Allow Copy: true
Allow Analysis: true
Allow Compute TiePoints: false
Supports Statistics: false
Supports Advanced Queries: false
Use StandardizedQueries: true
Raster Type Infos:
Name: Raster Dataset
Description: Supports all ArcGIS Raster Datasets
Help:
Has Raster Attribute Table: false
Edit Fields Info: null
Ownership Based AccessControl For Rasters: null
Child Resources:
Info
Histograms
Statistics
Key Properties
Legend
Raster Function Infos
Supported Operations:
Export Image
Identify
Measure
Compute Histograms
Compute Statistics Histograms
Get Samples
Compute Class Statistics
Query Boundary
Compute Pixel Location
Compute Angles
Validate
Project