{
 "currentVersion": 11.5,
 "serviceDescription": "CE20220223UKR/Ivankiv_20220227_WV3",
 "name": "CE20220223UKR/Ivankiv_20220227_WV3",
 "description": "",
 "extent": {
  "xmin": 703111.2454748154,
  "ymin": 5645452.0214419365,
  "xmax": 705438.1209111214,
  "ymax": 5646640.843255758,
  "spatialReference": {
   "wkid": 32635,
   "latestWkid": 32635
  }
 },
 "initialExtent": {
  "xmin": 703111.2454748154,
  "ymin": 5645452.0214419365,
  "xmax": 705438.1209111214,
  "ymax": 5646640.843255758,
  "spatialReference": {
   "wkid": 32635,
   "latestWkid": 32635
  }
 },
 "fullExtent": {
  "xmin": 703111.2454748154,
  "ymin": 5645452.0214419365,
  "xmax": 705438.1209111214,
  "ymax": 5646640.843255758,
  "spatialReference": {
   "wkid": 32635,
   "latestWkid": 32635
  }
 },
 "sortableFields": "",
 "bandCount": 3,
 "pixelType": "U8",
 "minValues": [
  0,
  0,
  0
 ],
 "maxValues": [
  255,
  255,
  255
 ],
 "meanValues": [
  77.15500988532,
  81.109135403062,
  86.626142963845
 ],
 "stdvValues": [
  38.932302032499,
  38.224987800873,
  37.793920435217
 ],
 "serviceProperties": "Center<\/MosaicMethod>First<\/MosaicOperator>true<\/SortAscending><\/LockImageID><\/TileOrderField>0<\/TileOrderBase>0.000000<\/AvgImageSpacingX>0.000000<\/AvgImageSpacingY>0.0<\/ViewPointX>0.0<\/ViewPointY>0.0<\/ViewPointDefShiftX>0.0<\/ViewPointDefShiftY>None<\/CompressionMethod>75<\/CompressionQuality>0.010000<\/CompressionTolerance>Bilinear<\/SamplingMethod><\/ImageServiceProperties><\/ImageServer>",
 "allowedFields": "",
 "hasMultidimensions": false,
 "pixelSizeX": 0.4700758457183838,
 "pixelSizeY": 0.4700758457183838,
 "meanPixelSize": 0.4700758457183838,
 "datasetFormat": "TIFF",
 "uncompressedSize": 37555650,
 "blockWidth": 4950,
 "blockHeight": 211,
 "compressionType": "None",
 "bandNames": [
  "Band_1",
  "Band_2",
  "Band_3"
 ],
 "allowCopy": true,
 "allowAnalysis": true,
 "itemAccess": false,
 "inspectionCapabilities": "",
 "minPixelSize": 0,
 "maxPixelSize": 0,
 "copyrightText": "",
 "serviceDataType": "esriImageServiceDataTypeRGB",
 "serviceSourceType": "esriImageServiceSourceTypeDataset",
 "objectIdField": "",
 "fields": [],
 "capabilities": "Image,Metadata,Mensuration",
 "defaultMosaicMethod": "Center",
 "allowedMosaicMethods": "",
 "sortField": "",
 "sortValue": null,
 "sortAscending": true,
 "mosaicOperator": "First",
 "defaultCompressionQuality": 75,
 "defaultResamplingMethod": "Bilinear",
 "maxImageHeight": 4100,
 "maxImageWidth": 15000,
 "allowRasterFunction": true,
 "rasterFunctionInfos": [
  {
   "name": "None",
   "description": "",
   "help": ""
  }
 ],
 "rasterTypeInfos": [
  {
   "name": "Raster Dataset",
   "description": "Supports all ArcGIS Raster Datasets",
   "help": ""
  }
 ],
 "mensurationCapabilities": "Basic",
 "hasHistograms": true,
 "hasColormap": false,
 "hasRasterAttributeTable": false,
 "minScale": 0,
 "maxScale": 0,
 "exportTilesAllowed": false,
 "supportsStatistics": false,
 "supportsAdvancedQueries": false,
 "editFieldsInfo": null,
 "ownershipBasedAccessControlForRasters": null,
 "allowComputeTiePoints": false,
 "useStandardizedQueries": true,
 "advancedQueryCapabilities": {
  "useStandardizedQueries": true,
  "supportsStatistics": false,
  "supportsOrderBy": false,
  "supportsDistinct": false,
  "supportsPagination": false
 },
 "spatialReference": {
  "wkid": 32635,
  "latestWkid": 32635
 }
}
