View In:
ArcGIS JavaScript
ArcGIS Online Map Viewer
ArcGIS Earth
Service Description: TC20230227VUT/PL_20230304_ErromangoIsland_tif
Name: TC20230227VUT/PL_20230304_ErromangoIsland_tif
Description:
Single Fused Map Cache: false
Extent:
XMin: 922370.5
YMin: 7913234.0
XMax: 925199.5
YMax: 7915904.0
Spatial Reference: 32758
(32758)
LatestVCSWkid(0)
Initial Extent:
XMin: 922370.5
YMin: 7913234.0
XMax: 925199.5
YMax: 7915904.0
Spatial Reference: 32758
(32758)
LatestVCSWkid(0)
Full Extent:
XMin: 922370.5
YMin: 7913234.0
XMax: 925199.5
YMax: 7915904.0
Spatial Reference: 32758
(32758)
LatestVCSWkid(0)
Pixel Size X: 0.5
Pixel Size Y: 0.5
Band Count: 4
Pixel Type: U16
RasterFunction Infos: {"rasterFunctionInfos": [{
"name": "None",
"description": "",
"help": ""
}]}
Mensuration Capabilities: Basic
Inspection Capabilities:
Has Histograms: true
Has Colormap: false
Has Multi Dimensions : false
Rendering Rule:
Min Scale: 0
Max Scale: 0
Resampling: false
Copyright Text: Copyright: CNES (2023), distribution Airbus D&S - Source: Airbus Defense and Space
Service Data Type: esriImageServiceDataTypeGeneric
Min Values: 1, 1, 1, 1
Max Values: 4095, 4095, 4095, 4095
Mean Values: 426.05892086415, 519.41215138635, 601.11273836915, 816.05580686637
Standard Deviation Values: 427.78237641194, 434.63229620051, 415.71389462619, 423.57332784218
Object ID Field:
Fields:
None
Default Mosaic Method: Center
Allowed Mosaic Methods:
SortField:
SortValue: null
Mosaic Operator: First
Default Compression Quality: 75
Default Resampling Method: Bilinear
Max Record Count: null
Max Image Height: 4100
Max Image Width: 15000
Max Download Image Count: null
Max Mosaic Image Count: null
Allow Raster Function: true
Allow Copy: true
Allow Analysis: true
Allow Compute TiePoints: false
Supports Statistics: false
Supports Advanced Queries: false
Use StandardizedQueries: true
Raster Type Infos:
Name: Raster Dataset
Description: Supports all ArcGIS Raster Datasets
Help:
Has Raster Attribute Table: false
Edit Fields Info: null
Ownership Based AccessControl For Rasters: null
Child Resources:
Info
Histograms
Statistics
Key Properties
Legend
Raster Function Infos
Supported Operations:
Export Image
Identify
Measure
Compute Histograms
Compute Statistics Histograms
Get Samples
Compute Class Statistics
Query Boundary
Compute Pixel Location
Compute Angles
Validate
Project