View In:
ArcGIS JavaScript
ArcGIS Online Map Viewer
ArcGIS Earth
Service Description: LS20240512IDN/PHR_20240520_tif
Name: LS20240512IDN/PHR_20240520_tif
Description:
Single Fused Map Cache: false
Extent:
XMin: 655460.4999999999
YMin: 9958633.5
XMax: 658778.9999999999
YMax: 9961523.0
Spatial Reference: 32747
(32747)
LatestVCSWkid(0)
Initial Extent:
XMin: 655460.4999999999
YMin: 9958633.5
XMax: 658778.9999999999
YMax: 9961523.0
Spatial Reference: 32747
(32747)
LatestVCSWkid(0)
Full Extent:
XMin: 655460.4999999999
YMin: 9958633.5
XMax: 658778.9999999999
YMax: 9961523.0
Spatial Reference: 32747
(32747)
LatestVCSWkid(0)
Pixel Size X: 0.5
Pixel Size Y: 0.5
Band Count: 4
Pixel Type: U16
RasterFunction Infos: {"rasterFunctionInfos": [{
"name": "None",
"description": "",
"help": ""
}]}
Mensuration Capabilities: Basic,Base-Top Shadow Height
Inspection Capabilities:
Has Histograms: true
Has Colormap: false
Has Multi Dimensions : false
Rendering Rule:
Min Scale: 0
Max Scale: 0
Resampling: false
Copyright Text:
Service Data Type: esriImageServiceDataTypeGeneric
Min Values: 0, 0, 0, 0
Max Values: 3809, 4054, 4095, 4095
Mean Values: 837.41067197042, 954.32312707446, 1061.3225290333, 1205.0718552986
Standard Deviation Values: 103.05609357987, 102.78980778434, 105.99373504984, 140.54487595611
Object ID Field:
Fields:
None
Default Mosaic Method: Center
Allowed Mosaic Methods:
SortField:
SortValue: null
Mosaic Operator: First
Default Compression Quality: 75
Default Resampling Method: Bilinear
Max Record Count: null
Max Image Height: 4100
Max Image Width: 15000
Max Download Image Count: null
Max Mosaic Image Count: null
Allow Raster Function: true
Allow Copy: true
Allow Analysis: true
Allow Compute TiePoints: false
Supports Statistics: false
Supports Advanced Queries: false
Use StandardizedQueries: true
Raster Type Infos:
Name: Raster Dataset
Description: Supports all ArcGIS Raster Datasets
Help:
Has Raster Attribute Table: false
Edit Fields Info: null
Ownership Based AccessControl For Rasters: null
Child Resources:
Info
Histograms
Statistics
Key Properties
Legend
Raster Function Infos
Supported Operations:
Export Image
Identify
Measure
Compute Histograms
Compute Statistics Histograms
Get Samples
Compute Class Statistics
Query Boundary
Compute Pixel Location
Compute Angles
Validate
Project