View In:
ArcGIS JavaScript
ArcGIS Online Map Viewer
ArcGIS Earth
Service Description: SFF_Health/GMA_Worldpop_ppp_2020
Name: SFF_Health/GMA_Worldpop_ppp_2020
Description:
Single Fused Map Cache: false
Extent:
XMin: -16.817916584
YMin: 13.056250149
XMax: -13.797916596
YMax: 13.826250146
Spatial Reference: 4326
(4326)
LatestVCSWkid(0)
Initial Extent:
XMin: -16.817916584
YMin: 13.056250149
XMax: -13.797916596
YMax: 13.826250146
Spatial Reference: 4326
(4326)
LatestVCSWkid(0)
Full Extent:
XMin: -16.817916584
YMin: 13.056250149
XMax: -13.797916596
YMax: 13.826250146
Spatial Reference: 4326
(4326)
LatestVCSWkid(0)
Pixel Size X: 8.333333300220747E-4
Pixel Size Y: 8.333333300865794E-4
Band Count: 1
Pixel Type: F32
RasterFunction Infos: {"rasterFunctionInfos": [{
"name": "None",
"description": "",
"help": ""
}]}
Mensuration Capabilities: Basic
Inspection Capabilities:
Has Histograms: true
Has Colormap: false
Has Multi Dimensions : false
Rendering Rule:
Min Scale: 0
Max Scale: 0
Copyright Text:
Service Data Type: esriImageServiceDataTypeGeneric
Min Values: 0
Max Values: 348.6400451660156
Mean Values: 30.690135249722893
Standard Deviation Values: 24.520938175968116
Object ID Field:
Fields:
None
Default Mosaic Method: Center
Allowed Mosaic Methods:
SortField:
SortValue: null
Mosaic Operator: First
Default Compression Quality: 75
Default Resampling Method: Bilinear
Max Record Count: null
Max Image Height: 4100
Max Image Width: 15000
Max Download Image Count: null
Max Mosaic Image Count: null
Allow Raster Function: true
Allow Copy: true
Allow Analysis: true
Allow Compute TiePoints: false
Supports Statistics: false
Supports Advanced Queries: false
Use StandardizedQueries: true
Raster Type Infos:
Name: Raster Dataset
Description: Supports all ArcGIS Raster Datasets
Help:
Has Raster Attribute Table: false
Edit Fields Info: null
Ownership Based AccessControl For Rasters: null
Child Resources:
Info
Histograms
Statistics
Key Properties
Legend
Raster Function Infos
Supported Operations:
Export Image
Identify
Measure
Compute Histograms
Compute Statistics Histograms
Get Samples
Compute Class Statistics
Query Boundary
Compute Pixel Location
Compute Angles
Validate
Project