View In:
ArcGIS JavaScript
ArcGIS Online Map Viewer
ArcGIS Earth
Service Description: SFF_Health/GMA_PopDensity_General_2020
Name: SFF_Health/GMA_PopDensity_General_2020
Description:
Single Fused Map Cache: false
Extent:
XMin: -16.82513888875765
YMin: 13.064027777730905
XMax: -13.797638888755216
YMax: 13.826805555509296
Spatial Reference: 4326
(4326)
LatestVCSWkid(0)
Initial Extent:
XMin: -16.82513888875765
YMin: 13.064027777730905
XMax: -13.797638888755216
YMax: 13.826805555509296
Spatial Reference: 4326
(4326)
LatestVCSWkid(0)
Full Extent:
XMin: -16.82513888875765
YMin: 13.064027777730905
XMax: -13.797638888755216
YMax: 13.826805555509296
Spatial Reference: 4326
(4326)
LatestVCSWkid(0)
Pixel Size X: 2.7777777777800107E-4
Pixel Size Y: 2.77777777778001E-4
Band Count: 1
Pixel Type: F64
RasterFunction Infos: {"rasterFunctionInfos": [{
"name": "None",
"description": "",
"help": ""
}]}
Mensuration Capabilities: Basic
Inspection Capabilities:
Has Histograms: true
Has Colormap: false
Has Multi Dimensions : false
Rendering Rule:
Min Scale: 0
Max Scale: 0
Copyright Text:
Service Data Type: esriImageServiceDataTypeGeneric
Min Values: 0
Max Values: 28.492911
Mean Values: 5.76352858249872
Standard Deviation Values: 2.3058304495279325
Object ID Field:
Fields:
None
Default Mosaic Method: Center
Allowed Mosaic Methods:
SortField:
SortValue: null
Mosaic Operator: First
Default Compression Quality: 75
Default Resampling Method: Bilinear
Max Record Count: null
Max Image Height: 4100
Max Image Width: 15000
Max Download Image Count: null
Max Mosaic Image Count: null
Allow Raster Function: true
Allow Copy: true
Allow Analysis: true
Allow Compute TiePoints: false
Supports Statistics: false
Supports Advanced Queries: false
Use StandardizedQueries: true
Raster Type Infos:
Name: Raster Dataset
Description: Supports all ArcGIS Raster Datasets
Help:
Has Raster Attribute Table: false
Edit Fields Info: null
Ownership Based AccessControl For Rasters: null
Child Resources:
Info
Histograms
Statistics
Key Properties
Legend
Raster Function Infos
Supported Operations:
Export Image
Identify
Measure
Compute Histograms
Compute Statistics Histograms
Get Samples
Compute Class Statistics
Query Boundary
Compute Pixel Location
Compute Angles
Validate
Project