View In:
ArcGIS JavaScript
ArcGIS Online Map Viewer
ArcGIS Earth
Service Description: CDEMA/KNA_SocialSuitability
Name: CDEMA/KNA_SocialSuitability
Description:
Single Fused Map Cache: false
Extent:
XMin: -62.864693406
YMin: 17.09419432
XMax: -62.53961685
YMax: 17.418276959
Spatial Reference: 4326
(4326)
LatestVCSWkid(0)
Initial Extent:
XMin: -62.864693406
YMin: 17.09419432
XMax: -62.53961685
YMax: 17.418276959
Spatial Reference: 4326
(4326)
LatestVCSWkid(0)
Full Extent:
XMin: -62.864693406
YMin: 17.09419432
XMax: -62.53961685
YMax: 17.418276959
Spatial Reference: 4326
(4326)
LatestVCSWkid(0)
Pixel Size X: 9.42250886956519E-4
Pixel Size Y: 9.027371559888586E-4
Band Count: 1
Pixel Type: U8
RasterFunction Infos: {"rasterFunctionInfos": [{
"name": "None",
"description": "",
"help": ""
}]}
Mensuration Capabilities: Basic
Inspection Capabilities:
Has Histograms: true
Has Colormap: false
Has Multi Dimensions : false
Rendering Rule:
Min Scale: 0
Max Scale: 0
Resampling: false
Copyright Text:
Service Data Type: esriImageServiceDataTypeGeneric
Min Values: 1
Max Values: 3
Mean Values: 2.8555415279850034
Standard Deviation Values: 0.4658563559455947
Object ID Field:
Fields:
None
Default Mosaic Method: Center
Allowed Mosaic Methods:
SortField:
SortValue: null
Mosaic Operator: First
Default Compression Quality: 75
Default Resampling Method: Bilinear
Max Record Count: null
Max Image Height: 4100
Max Image Width: 15000
Max Download Image Count: null
Max Mosaic Image Count: null
Allow Raster Function: true
Allow Copy: true
Allow Analysis: true
Allow Compute TiePoints: false
Supports Statistics: false
Supports Advanced Queries: false
Use StandardizedQueries: true
Raster Type Infos:
Name: Raster Dataset
Description: Supports all ArcGIS Raster Datasets
Help:
Has Raster Attribute Table: false
Edit Fields Info: null
Ownership Based AccessControl For Rasters: null
Child Resources:
Info
Histograms
Statistics
Key Properties
Legend
Raster Function Infos
Supported Operations:
Export Image
Identify
Measure
Compute Histograms
Compute Statistics Histograms
Get Samples
Compute Class Statistics
Query Boundary
Compute Pixel Location
Compute Angles
Validate
Project