View In:
ArcGIS JavaScript
ArcGIS Online Map Viewer
ArcGIS Earth
Service Description: CDEMA/KNA_HazardIndex
Name: CDEMA/KNA_HazardIndex
Description:
Single Fused Map Cache: false
Extent:
XMin: 514374.05295183684
YMin: 1889951.835803712
XMax: 549054.0485444894
YMax: 1925891.467996288
Spatial Reference: 32620
(32620)
LatestVCSWkid(0)
Initial Extent:
XMin: 514374.05295183684
YMin: 1889951.835803712
XMax: 549054.0485444894
YMax: 1925891.467996288
Spatial Reference: 32620
(32620)
LatestVCSWkid(0)
Full Extent:
XMin: 514374.05295183684
YMin: 1889951.835803712
XMax: 549054.0485444894
YMax: 1925891.467996288
Spatial Reference: 32620
(32620)
LatestVCSWkid(0)
Pixel Size X: 9.997116054382412
Pixel Size Y: 9.99711604800447
Band Count: 1
Pixel Type: F32
RasterFunction Infos: {"rasterFunctionInfos": [{
"name": "None",
"description": "",
"help": ""
}]}
Mensuration Capabilities: Basic
Inspection Capabilities:
Has Histograms: true
Has Colormap: false
Has Multi Dimensions : false
Rendering Rule:
Min Scale: 0
Max Scale: 0
Copyright Text:
Service Data Type: esriImageServiceDataTypeGeneric
Min Values: 1
Max Values: 4
Mean Values: 2.94157693819228
Standard Deviation Values: 0.3450107638347944
Object ID Field:
Fields:
None
Default Mosaic Method: Center
Allowed Mosaic Methods:
SortField:
SortValue: null
Mosaic Operator: First
Default Compression Quality: 75
Default Resampling Method: Bilinear
Max Record Count: null
Max Image Height: 4100
Max Image Width: 15000
Max Download Image Count: null
Max Mosaic Image Count: null
Allow Raster Function: true
Allow Copy: true
Allow Analysis: true
Allow Compute TiePoints: false
Supports Statistics: false
Supports Advanced Queries: false
Use StandardizedQueries: true
Raster Type Infos:
Name: Raster Dataset
Description: Supports all ArcGIS Raster Datasets
Help:
Has Raster Attribute Table: false
Edit Fields Info: null
Ownership Based AccessControl For Rasters: null
Child Resources:
Info
Histograms
Statistics
Key Properties
Legend
Raster Function Infos
Supported Operations:
Export Image
Identify
Measure
Compute Histograms
Compute Statistics Histograms
Get Samples
Compute Class Statistics
Query Boundary
Compute Pixel Location
Compute Angles
Validate
Project