View In:
ArcGIS JavaScript
ArcGIS Online Map Viewer
ArcGIS Earth
Service Description: CDEMA/KNA_EnvironmentalSuitability
Name: CDEMA/KNA_EnvironmentalSuitability
Description:
Single Fused Map Cache: false
Extent:
XMin: -62.863867028
YMin: 17.094030239
XMax: -62.539051123
YMax: 17.418057829
Spatial Reference: 4326
(4326)
LatestVCSWkid(0)
Initial Extent:
XMin: -62.863867028
YMin: 17.094030239
XMax: -62.539051123
YMax: 17.418057829
Spatial Reference: 4326
(4326)
LatestVCSWkid(0)
Full Extent:
XMin: -62.863867028
YMin: 17.094030239
XMax: -62.539051123
YMax: 17.418057829
Spatial Reference: 4326
(4326)
LatestVCSWkid(0)
Pixel Size X: 0.0010377504952076718
Pixel Size Y: 9.939496625766871E-4
Band Count: 1
Pixel Type: U8
RasterFunction Infos: {"rasterFunctionInfos": [{
"name": "None",
"description": "",
"help": ""
}]}
Mensuration Capabilities: Basic
Inspection Capabilities:
Has Histograms: true
Has Colormap: false
Has Multi Dimensions : false
Rendering Rule:
Min Scale: 0
Max Scale: 0
Copyright Text:
Service Data Type: esriImageServiceDataTypeGeneric
Min Values: 1
Max Values: 3
Mean Values: 1.8514650152509473
Standard Deviation Values: 0.6119471361598164
Object ID Field:
Fields:
None
Default Mosaic Method: Center
Allowed Mosaic Methods:
SortField:
SortValue: null
Mosaic Operator: First
Default Compression Quality: 75
Default Resampling Method: Bilinear
Max Record Count: null
Max Image Height: 4100
Max Image Width: 15000
Max Download Image Count: null
Max Mosaic Image Count: null
Allow Raster Function: true
Allow Copy: true
Allow Analysis: true
Allow Compute TiePoints: false
Supports Statistics: false
Supports Advanced Queries: false
Use StandardizedQueries: true
Raster Type Infos:
Name: Raster Dataset
Description: Supports all ArcGIS Raster Datasets
Help:
Has Raster Attribute Table: false
Edit Fields Info: null
Ownership Based AccessControl For Rasters: null
Child Resources:
Info
Histograms
Statistics
Key Properties
Legend
Raster Function Infos
Supported Operations:
Export Image
Identify
Measure
Compute Histograms
Compute Statistics Histograms
Get Samples
Compute Class Statistics
Query Boundary
Compute Pixel Location
Compute Angles
Validate
Project