View In:
ArcGIS JavaScript
ArcGIS Online Map Viewer
ArcGIS Earth
Service Description: CDEMA/DMA_MultiHazardRiskIndex
Name: CDEMA/DMA_MultiHazardRiskIndex
Description:
Single Fused Map Cache: false
Extent:
XMin: 663016.4521
YMin: 1681976.9823
XMax: 688890.8260729263
YMax: 1729762.2154
Spatial Reference: 32620
(32620)
LatestVCSWkid(0)
Initial Extent:
XMin: 663016.4521
YMin: 1681976.9823
XMax: 688890.8260729263
YMax: 1729762.2154
Spatial Reference: 32620
(32620)
LatestVCSWkid(0)
Full Extent:
XMin: 663016.4521
YMin: 1681976.9823
XMax: 688890.8260729263
YMax: 1729762.2154
Spatial Reference: 32620
(32620)
LatestVCSWkid(0)
Pixel Size X: 17.158072926343692
Pixel Size Y: 17.15807292639141
Band Count: 1
Pixel Type: F32
RasterFunction Infos: {"rasterFunctionInfos": [{
"name": "None",
"description": "",
"help": ""
}]}
Mensuration Capabilities: Basic
Inspection Capabilities:
Has Histograms: true
Has Colormap: false
Has Multi Dimensions : false
Rendering Rule:
Min Scale: 0
Max Scale: 0
Copyright Text:
Service Data Type: esriImageServiceDataTypeGeneric
Min Values: 1
Max Values: 4
Mean Values: 2.4666859591636485
Standard Deviation Values: 0.8276754868705033
Object ID Field:
Fields:
None
Default Mosaic Method: Center
Allowed Mosaic Methods:
SortField:
SortValue: null
Mosaic Operator: First
Default Compression Quality: 75
Default Resampling Method: Bilinear
Max Record Count: null
Max Image Height: 4100
Max Image Width: 15000
Max Download Image Count: null
Max Mosaic Image Count: null
Allow Raster Function: true
Allow Copy: true
Allow Analysis: true
Allow Compute TiePoints: false
Supports Statistics: false
Supports Advanced Queries: false
Use StandardizedQueries: true
Raster Type Infos:
Name: Raster Dataset
Description: Supports all ArcGIS Raster Datasets
Help:
Has Raster Attribute Table: false
Edit Fields Info: null
Ownership Based AccessControl For Rasters: null
Child Resources:
Info
Histograms
Statistics
Key Properties
Legend
Raster Function Infos
Supported Operations:
Export Image
Identify
Measure
Compute Histograms
Compute Statistics Histograms
Get Samples
Compute Class Statistics
Query Boundary
Compute Pixel Location
Compute Angles
Validate
Project