View In:
ArcGIS JavaScript
ArcGIS Online Map Viewer
ArcGIS Earth
Service Description: CDEMA/DMA_MCDA
Name: CDEMA/DMA_MCDA
Description:
Single Fused Map Cache: false
Extent:
XMin: -61.48564859770769
YMin: 15.205494953178055
XMax: -61.23438487647692
YMax: 15.642834084777434
Spatial Reference: 4326
(4326)
LatestVCSWkid(0)
Initial Extent:
XMin: -61.48564859770769
YMin: 15.205494953178055
XMax: -61.23438487647692
YMax: 15.642834084777434
Spatial Reference: 4326
(4326)
LatestVCSWkid(0)
Full Extent:
XMin: -61.48564859770769
YMin: 15.205494953178055
XMax: -61.23438487647692
YMax: 15.642834084777434
Spatial Reference: 4326
(4326)
LatestVCSWkid(0)
Pixel Size X: 4.6965181538460523E-4
Pixel Size Y: 4.4855295548654173E-4
Band Count: 1
Pixel Type: F32
RasterFunction Infos: {"rasterFunctionInfos": [{
"name": "None",
"description": "",
"help": ""
}]}
Mensuration Capabilities: Basic
Inspection Capabilities:
Has Histograms: true
Has Colormap: false
Has Multi Dimensions : false
Rendering Rule:
Min Scale: 0
Max Scale: 0
Copyright Text:
Service Data Type: esriImageServiceDataTypeGeneric
Min Values: 1
Max Values: 4
Mean Values: 3.163846081871879
Standard Deviation Values: 0.4638674078656125
Object ID Field:
Fields:
None
Default Mosaic Method: Center
Allowed Mosaic Methods:
SortField:
SortValue: null
Mosaic Operator: First
Default Compression Quality: 75
Default Resampling Method: Bilinear
Max Record Count: null
Max Image Height: 4100
Max Image Width: 15000
Max Download Image Count: null
Max Mosaic Image Count: null
Allow Raster Function: true
Allow Copy: true
Allow Analysis: true
Allow Compute TiePoints: false
Supports Statistics: false
Supports Advanced Queries: false
Use StandardizedQueries: true
Raster Type Infos:
Name: Raster Dataset
Description: Supports all ArcGIS Raster Datasets
Help:
Has Raster Attribute Table: false
Edit Fields Info: null
Ownership Based AccessControl For Rasters: null
Child Resources:
Info
Histograms
Statistics
Key Properties
Legend
Raster Function Infos
Supported Operations:
Export Image
Identify
Measure
Compute Histograms
Compute Statistics Histograms
Get Samples
Compute Class Statistics
Query Boundary
Compute Pixel Location
Compute Angles
Validate
Project