View In:
ArcGIS JavaScript
ArcGIS Online Map Viewer
ArcGIS Earth
Service Description: CDEMA/ATB_PopulationDensity
Name: CDEMA/ATB_PopulationDensity
Description:
Single Fused Map Cache: false
Extent:
XMin: -62.000138888793984
YMin: 17.000138888845186
XMax: -61.00013888879318
YMax: 18.00013888884599
Spatial Reference: 4326
(4326)
LatestVCSWkid(0)
Initial Extent:
XMin: -62.000138888793984
YMin: 17.000138888845186
XMax: -61.00013888879318
YMax: 18.00013888884599
Spatial Reference: 4326
(4326)
LatestVCSWkid(0)
Full Extent:
XMin: -62.000138888793984
YMin: 17.000138888845186
XMax: -61.00013888879318
YMax: 18.00013888884599
Spatial Reference: 4326
(4326)
LatestVCSWkid(0)
Pixel Size X: 2.777777777780008E-4
Pixel Size Y: 2.777777777780008E-4
Band Count: 1
Pixel Type: F64
RasterFunction Infos: {"rasterFunctionInfos": [{
"name": "None",
"description": "",
"help": ""
}]}
Mensuration Capabilities: Basic
Inspection Capabilities:
Has Histograms: true
Has Colormap: false
Has Multi Dimensions : false
Rendering Rule:
Min Scale: 0
Max Scale: 0
Copyright Text:
Service Data Type: esriImageServiceDataTypeGeneric
Min Values: 1.34125
Max Values: 9.22848
Mean Values: 3.1712434711457926
Standard Deviation Values: 1.4458832601998413
Object ID Field:
Fields:
None
Default Mosaic Method: Center
Allowed Mosaic Methods:
SortField:
SortValue: null
Mosaic Operator: First
Default Compression Quality: 75
Default Resampling Method: Bilinear
Max Record Count: null
Max Image Height: 4100
Max Image Width: 15000
Max Download Image Count: null
Max Mosaic Image Count: null
Allow Raster Function: true
Allow Copy: true
Allow Analysis: true
Allow Compute TiePoints: false
Supports Statistics: false
Supports Advanced Queries: false
Use StandardizedQueries: true
Raster Type Infos:
Name: Raster Dataset
Description: Supports all ArcGIS Raster Datasets
Help:
Has Raster Attribute Table: false
Edit Fields Info: null
Ownership Based AccessControl For Rasters: null
Child Resources:
Info
Histograms
Statistics
Key Properties
Legend
Raster Function Infos
Supported Operations:
Export Image
Identify
Measure
Compute Histograms
Compute Statistics Histograms
Get Samples
Compute Class Statistics
Query Boundary
Compute Pixel Location
Compute Angles
Validate
Project