View In:
ArcGIS JavaScript
ArcGIS Online Map Viewer
ArcGIS Earth
Service Description: Basemaps/O672_Cameroon_16Dec2021_NV
Name: Basemaps/O672_Cameroon_16Dec2021_NV
Description:
Single Fused Map Cache: false
Extent:
XMin: 9.271431000000002
YMin: 4.070866499998797
XMax: 9.293661000001483
YMax: 4.088934000000001
Spatial Reference: 4326
(4326)
LatestVCSWkid(0)
Initial Extent:
XMin: 9.271431000000002
YMin: 4.070866499998797
XMax: 9.293661000001483
YMax: 4.088934000000001
Spatial Reference: 4326
(4326)
LatestVCSWkid(0)
Full Extent:
XMin: 9.271431000000002
YMin: 4.070866499998797
XMax: 9.293661000001483
YMax: 4.088934000000001
Spatial Reference: 4326
(4326)
LatestVCSWkid(0)
Pixel Size X: 4.500000000299979E-6
Pixel Size Y: 4.500000000299944E-6
Band Count: 3
Pixel Type: U8
RasterFunction Infos: {"rasterFunctionInfos": [{
"name": "None",
"description": "",
"help": ""
}]}
Mensuration Capabilities: Basic
Inspection Capabilities:
Has Histograms: true
Has Colormap: false
Has Multi Dimensions : false
Rendering Rule:
Min Scale: 0
Max Scale: 0
Copyright Text:
Service Data Type: esriImageServiceDataTypeRGB
Min Values: 1, 1, 1
Max Values: 255, 255, 255
Mean Values: 89.497550380414, 93.787581690104, 89.400391699138
Standard Deviation Values: 42.709349709961, 42.638546461705, 42.69068645244
Object ID Field:
Fields:
None
Default Mosaic Method: Center
Allowed Mosaic Methods:
SortField:
SortValue: null
Mosaic Operator: First
Default Compression Quality: 75
Default Resampling Method: Bilinear
Max Record Count: null
Max Image Height: 4100
Max Image Width: 15000
Max Download Image Count: null
Max Mosaic Image Count: null
Allow Raster Function: true
Allow Copy: true
Allow Analysis: true
Allow Compute TiePoints: false
Supports Statistics: false
Supports Advanced Queries: false
Use StandardizedQueries: true
Raster Type Infos:
Name: Raster Dataset
Description: Supports all ArcGIS Raster Datasets
Help:
Has Raster Attribute Table: false
Edit Fields Info: null
Ownership Based AccessControl For Rasters: null
Child Resources:
Info
Histograms
Statistics
Key Properties
Legend
Raster Function Infos
Supported Operations:
Export Image
Identify
Measure
Compute Histograms
Compute Statistics Histograms
Get Samples
Compute Class Statistics
Query Boundary
Compute Pixel Location
Compute Angles
Validate
Project