View In:
ArcGIS JavaScript
ArcGIS Online Map Viewer
ArcGIS Earth
Service Description: BADEA/Togo_O793_Jan2022PL
Name: BADEA/Togo_O793_Jan2022PL
Description:
Single Fused Map Cache: false
Extent:
XMin: 58703.63772112131
YMin: 997961.8411589131
XMax: 136975.15467427077
YMax: 1056665.478873775
Spatial Reference: 102100
(3857)
LatestVCSWkid(0)
Initial Extent:
XMin: 58703.63772112131
YMin: 997961.8411589131
XMax: 136975.15467427077
YMax: 1056665.478873775
Spatial Reference: 102100
(3857)
LatestVCSWkid(0)
Full Extent:
XMin: 58703.63772112131
YMin: 997961.8411589131
XMax: 136975.15467427077
YMax: 1056665.478873775
Spatial Reference: 102100
(3857)
LatestVCSWkid(0)
Pixel Size X: 4.777314267160001
Pixel Size Y: 4.777314267159994
Band Count: 5
Pixel Type: S16
RasterFunction Infos: {"rasterFunctionInfos": [{
"name": "None",
"description": "",
"help": ""
}]}
Mensuration Capabilities: Basic
Inspection Capabilities:
Has Histograms: true
Has Colormap: false
Has Multi Dimensions : false
Rendering Rule:
Min Scale: 0
Max Scale: 0
Copyright Text:
Service Data Type: esriImageServiceDataTypeGeneric
Min Values: 1, 189, 81, 766, 32767
Max Values: 5318, 6266, 9883, 10000, 32767
Mean Values: 424.4731628696124, 771.6026280969381, 828.9180497825146, 2429.1997366944947, 32767
Standard Deviation Values: 86.33813681066708, 115.52029453171386, 205.29065155682125, 384.09803770833696, 0
Object ID Field:
Fields:
None
Default Mosaic Method: Center
Allowed Mosaic Methods:
SortField:
SortValue: null
Mosaic Operator: First
Default Compression Quality: 75
Default Resampling Method: Bilinear
Max Record Count: null
Max Image Height: 4100
Max Image Width: 15000
Max Download Image Count: null
Max Mosaic Image Count: null
Allow Raster Function: true
Allow Copy: true
Allow Analysis: true
Allow Compute TiePoints: false
Supports Statistics: false
Supports Advanced Queries: false
Use StandardizedQueries: true
Raster Type Infos:
Name: Raster Dataset
Description: Supports all ArcGIS Raster Datasets
Help:
Has Raster Attribute Table: false
Edit Fields Info: null
Ownership Based AccessControl For Rasters: null
Child Resources:
Info
Histograms
Statistics
Key Properties
Legend
Raster Function Infos
Supported Operations:
Export Image
Identify
Measure
Compute Histograms
Compute Statistics Histograms
Get Samples
Compute Class Statistics
Query Boundary
Compute Pixel Location
Compute Angles
Validate
Project