View In:
ArcGIS JavaScript
ArcGIS Online Map Viewer
ArcGIS Earth
ArcMap
View Footprint In:
ArcGIS Online Map Viewer
Service Description: BADEA/TCD_O811_23Nov2022_GE01
Name: BADEA/TCD_O811_23Nov2022_GE01
Description:
Single Fused Map Cache: false
Extent:
XMin: 20.820338452465638
YMin: 13.773268005380299
XMax: 20.859825582040276
YMax: 13.804804302311753
Spatial Reference: 4326
(4326)
Initial Extent:
XMin: 20.820338452465638
YMin: 13.773268005380299
XMax: 20.859825582040276
YMax: 13.804804302311753
Spatial Reference: 4326
(4326)
Full Extent:
XMin: 20.820338452465638
YMin: 13.773268005380299
XMax: 20.859825582040276
YMax: 13.804804302311753
Spatial Reference: 4326
(4326)
Pixel Size X: 3.7610372011275744E-6
Pixel Size Y: 3.7610372011275545E-6
Band Count: 3
Pixel Type: U8
RasterFunction Infos: {"rasterFunctionInfos": [{
"name": "None",
"description": "",
"help": ""
}]}
Mensuration Capabilities: Basic
Has Histograms: true
Has Colormap: false
Has Multi Dimensions : false
Rendering Rule:
Min Scale: 0
Max Scale: 0
Copyright Text:
Service Data Type: esriImageServiceDataTypeRGB
Min Values: 1, 1, 1
Max Values: 255, 255, 255
Mean Values: 192.3375571735803, 157.23595251163118, 122.9102401875435
Standard Deviation Values: 40.371700825186345, 31.728023270858333, 24.25958051425501
Object ID Field:
Fields:
None
Default Mosaic Method: Center
Allowed Mosaic Methods:
SortField:
SortValue: null
Mosaic Operator: First
Default Compression Quality: 75
Default Resampling Method: Bilinear
Max Record Count: null
Max Image Height: 4100
Max Image Width: 15000
Max Download Image Count: null
Max Mosaic Image Count: null
Allow Raster Function: true
Allow Copy: true
Allow Analysis: true
Allow Compute TiePoints: false
Supports Statistics: false
Supports Advanced Queries: false
Use StandardizedQueries: true
Raster Type Infos:
Name: Raster Dataset
Description: Supports all ArcGIS Raster Datasets
Help:
Has Raster Attribute Table: false
Edit Fields Info: null
Ownership Based AccessControl For Rasters: null
Child Resources:
Info
Histograms
Statistics
Key Properties
Legend
Raster Function Infos
Supported Operations:
Export Image
Identify
Measure
Compute Histograms
Compute Statistics Histograms
Get Samples
Compute Class Statistics
Query Boundary
Compute Pixel Location
Compute Angles
Validate
Project