View In:
ArcGIS JavaScript
ArcGIS Online Map Viewer
ArcGIS Earth
ArcMap
View Footprint In:
ArcGIS Online Map Viewer
Service Description: BADEA/TCD_O811_12Jan2021_GE01
Name: BADEA/TCD_O811_12Jan2021_GE01
Description:
Single Fused Map Cache: false
Extent:
XMin: 20.820316156886104
YMin: 13.773270550056074
XMax: 20.85980288357583
YMax: 13.804805088709584
Spatial Reference: 4326
(4326)
Initial Extent:
XMin: 20.820316156886104
YMin: 13.773270550056074
XMax: 20.85980288357583
YMax: 13.804805088709584
Spatial Reference: 4326
(4326)
Full Extent:
XMin: 20.820316156886104
YMin: 13.773270550056074
XMax: 20.85980288357583
YMax: 13.804805088709584
Spatial Reference: 4326
(4326)
Pixel Size X: 4.495301308029052E-6
Pixel Size Y: 4.495301304848178E-6
Band Count: 3
Pixel Type: U8
RasterFunction Infos: {"rasterFunctionInfos": [{
"name": "None",
"description": "",
"help": ""
}]}
Mensuration Capabilities: Basic
Has Histograms: true
Has Colormap: false
Has Multi Dimensions : false
Rendering Rule:
Min Scale: 0
Max Scale: 0
Copyright Text:
Service Data Type: esriImageServiceDataTypeRGB
Min Values: 1, 1, 1
Max Values: 255, 255, 255
Mean Values: 163.40053128043849, 131.53746328465928, 109.32852991775763
Standard Deviation Values: 23.92317982212565, 19.63415144788078, 17.237106770887475
Object ID Field:
Fields:
None
Default Mosaic Method: Center
Allowed Mosaic Methods:
SortField:
SortValue: null
Mosaic Operator: First
Default Compression Quality: 75
Default Resampling Method: Bilinear
Max Record Count: null
Max Image Height: 4100
Max Image Width: 15000
Max Download Image Count: null
Max Mosaic Image Count: null
Allow Raster Function: true
Allow Copy: true
Allow Analysis: true
Allow Compute TiePoints: false
Supports Statistics: false
Supports Advanced Queries: false
Use StandardizedQueries: true
Raster Type Infos:
Name: Raster Dataset
Description: Supports all ArcGIS Raster Datasets
Help:
Has Raster Attribute Table: false
Edit Fields Info: null
Ownership Based AccessControl For Rasters: null
Child Resources:
Info
Histograms
Statistics
Key Properties
Legend
Raster Function Infos
Supported Operations:
Export Image
Identify
Measure
Compute Histograms
Compute Statistics Histograms
Get Samples
Compute Class Statistics
Query Boundary
Compute Pixel Location
Compute Angles
Validate
Project