View In:
ArcGIS JavaScript
ArcGIS Online Map Viewer
ArcGIS Earth
Service Description: BADEA/RWC369_Kenya_Jan22PL
Name: BADEA/RWC369_Kenya_Jan22PL
Description:
Single Fused Map Cache: false
Extent:
XMin: 4030983.123093456
YMin: -58703.63770860285
XMax: 4070118.881570031
YMax: -39135.758470315486
Spatial Reference: 102100
(3857)
LatestVCSWkid(0)
Initial Extent:
XMin: 4030983.123093456
YMin: -58703.63770860285
XMax: 4070118.881570031
YMax: -39135.758470315486
Spatial Reference: 102100
(3857)
LatestVCSWkid(0)
Full Extent:
XMin: 4030983.123093456
YMin: -58703.63770860285
XMax: 4070118.881570031
YMax: -39135.758470315486
Spatial Reference: 102100
(3857)
LatestVCSWkid(0)
Pixel Size X: 4.777314267160023
Pixel Size Y: 4.777314267160001
Band Count: 5
Pixel Type: U16
RasterFunction Infos: {"rasterFunctionInfos": [{
"name": "None",
"description": "",
"help": ""
}]}
Mensuration Capabilities: Basic
Inspection Capabilities:
Has Histograms: true
Has Colormap: false
Has Multi Dimensions : false
Rendering Rule:
Min Scale: 0
Max Scale: 0
Copyright Text:
Service Data Type: esriImageServiceDataTypeGeneric
Min Values: 18, 165, 3, 514, 65535
Max Values: 4106, 4803, 5596, 6812, 65535
Mean Values: 368.0069979727268, 633.2763983607292, 664.8935631811619, 2488.9430609941483, 65535
Standard Deviation Values: 148.7256726452203, 176.16856502317688, 292.28292276428175, 517.482046597738, 0
Object ID Field:
Fields:
None
Default Mosaic Method: Center
Allowed Mosaic Methods:
SortField:
SortValue: null
Mosaic Operator: First
Default Compression Quality: 75
Default Resampling Method: Bilinear
Max Record Count: null
Max Image Height: 4100
Max Image Width: 15000
Max Download Image Count: null
Max Mosaic Image Count: null
Allow Raster Function: true
Allow Copy: true
Allow Analysis: true
Allow Compute TiePoints: false
Supports Statistics: false
Supports Advanced Queries: false
Use StandardizedQueries: true
Raster Type Infos:
Name: Raster Dataset
Description: Supports all ArcGIS Raster Datasets
Help:
Has Raster Attribute Table: false
Edit Fields Info: null
Ownership Based AccessControl For Rasters: null
Child Resources:
Info
Histograms
Statistics
Key Properties
Legend
Raster Function Infos
Supported Operations:
Export Image
Identify
Measure
Compute Histograms
Compute Statistics Histograms
Get Samples
Compute Class Statistics
Query Boundary
Compute Pixel Location
Compute Angles
Validate
Project