View In:
ArcGIS JavaScript
ArcGIS Online Map Viewer
ArcGIS Earth
Service Description: BADEA/O887_CoteDivoire_03Feb2023_WV03
Name: BADEA/O887_CoteDivoire_03Feb2023_WV03
Description:
Single Fused Map Cache: false
Extent:
XMin: -4.02473088077563
YMin: 5.393173203494044
XMax: -4.0043889017095315
YMax: 5.408894500303747
Spatial Reference: 4326
(4326)
LatestVCSWkid(0)
Initial Extent:
XMin: -4.02473088077563
YMin: 5.393173203494044
XMax: -4.0043889017095315
YMax: 5.408894500303747
Spatial Reference: 4326
(4326)
LatestVCSWkid(0)
Full Extent:
XMin: -4.02473088077563
YMin: 5.393173203494044
XMax: -4.0043889017095315
YMax: 5.408894500303747
Spatial Reference: 4326
(4326)
LatestVCSWkid(0)
Pixel Size X: 3.430350601365697E-6
Pixel Size Y: 3.430350602160841E-6
Band Count: 3
Pixel Type: U8
RasterFunction Infos: {"rasterFunctionInfos": [{
"name": "None",
"description": "",
"help": ""
}]}
Mensuration Capabilities: Basic
Inspection Capabilities:
Has Histograms: true
Has Colormap: false
Has Multi Dimensions : false
Rendering Rule:
Min Scale: 0
Max Scale: 0
Copyright Text:
Service Data Type: esriImageServiceDataTypeRGB
Min Values: 1, 1, 1
Max Values: 255, 255, 255
Mean Values: 126.4094496524475, 131.35497396897912, 130.83517784583321
Standard Deviation Values: 48.49556671505962, 48.48860819189667, 51.83575665367945
Object ID Field:
Fields:
None
Default Mosaic Method: Center
Allowed Mosaic Methods:
SortField:
SortValue: null
Mosaic Operator: First
Default Compression Quality: 75
Default Resampling Method: Bilinear
Max Record Count: null
Max Image Height: 4100
Max Image Width: 15000
Max Download Image Count: null
Max Mosaic Image Count: null
Allow Raster Function: true
Allow Copy: true
Allow Analysis: true
Allow Compute TiePoints: false
Supports Statistics: false
Supports Advanced Queries: false
Use StandardizedQueries: true
Raster Type Infos:
Name: Raster Dataset
Description: Supports all ArcGIS Raster Datasets
Help:
Has Raster Attribute Table: false
Edit Fields Info: null
Ownership Based AccessControl For Rasters: null
Child Resources:
Info
Histograms
Statistics
Key Properties
Legend
Raster Function Infos
Supported Operations:
Export Image
Identify
Measure
Compute Histograms
Compute Statistics Histograms
Get Samples
Compute Class Statistics
Query Boundary
Compute Pixel Location
Compute Angles
Validate
Project