View In:
ArcGIS JavaScript
ArcGIS Online Map Viewer
ArcGIS Earth
ArcMap
View Footprint In:
ArcGIS Online Map Viewer
Service Description: BADEA/O856_Malawi
Name: BADEA/O856_Malawi
Description:
Single Fused Map Cache: false
Extent:
XMin: 3768182.8362968257
YMin: -1114627.9601934736
XMax: 3779281.2312979735
YMax: -1110168.2672350444
Spatial Reference: 102100
(3857)
Initial Extent:
XMin: 3768182.8362968257
YMin: -1114627.9601934736
XMax: 3779281.2312979735
YMax: -1110168.2672350444
Spatial Reference: 102100
(3857)
Full Extent:
XMin: 3768182.8362968257
YMin: -1114627.9601934736
XMax: 3779281.2312979735
YMax: -1110168.2672350444
Spatial Reference: 102100
(3857)
Pixel Size X: 0.4329560349983566
Pixel Size Y: 0.4330639889715695
Band Count: 3
Pixel Type: U8
RasterFunction Infos: {"rasterFunctionInfos": [{
"name": "None",
"description": "",
"help": ""
}]}
Mensuration Capabilities: Basic
Has Histograms: true
Has Colormap: false
Has Multi Dimensions : false
Rendering Rule:
Min Scale: 0
Max Scale: 0
Copyright Text:
Service Data Type: esriImageServiceDataTypeRGB
Min Values: 1, 1, 1
Max Values: 255, 255, 255
Mean Values: 86.14577528599125, 89.87885279818872, 79.51763091084285
Standard Deviation Values: 37.16291852101768, 31.28500488914827, 29.64539415383607
Object ID Field:
Fields:
None
Default Mosaic Method: Center
Allowed Mosaic Methods:
SortField:
SortValue: null
Mosaic Operator: First
Default Compression Quality: 75
Default Resampling Method: Bilinear
Max Record Count: null
Max Image Height: 4100
Max Image Width: 15000
Max Download Image Count: null
Max Mosaic Image Count: null
Allow Raster Function: true
Allow Copy: true
Allow Analysis: true
Allow Compute TiePoints: false
Supports Statistics: false
Supports Advanced Queries: false
Use StandardizedQueries: true
Raster Type Infos:
Name: Raster Dataset
Description: Supports all ArcGIS Raster Datasets
Help:
Has Raster Attribute Table: false
Edit Fields Info: null
Ownership Based AccessControl For Rasters: null
Child Resources:
Info
Histograms
Statistics
Key Properties
Legend
Raster Function Infos
Supported Operations:
Export Image
Identify
Measure
Compute Histograms
Compute Statistics Histograms
Get Samples
Compute Class Statistics
Query Boundary
Compute Pixel Location
Compute Angles
Validate
Project