View In:
ArcGIS JavaScript
ArcGIS Online Map Viewer
ArcGIS Earth
Service Description: BADEA/O844_Burundi_Sept2020_PL
Name: BADEA/O844_Burundi_Sept2020_PL
Description:
Single Fused Map Cache: false
Extent:
XMin: 3228700.074323673
YMin: -469629.101712639
XMax: 3365675.228991685
YMax: -391357.58475948917
Spatial Reference: 102100
(3857)
LatestVCSWkid(0)
Initial Extent:
XMin: 3228700.074323673
YMin: -469629.101712639
XMax: 3365675.228991685
YMax: -391357.58475948917
Spatial Reference: 102100
(3857)
LatestVCSWkid(0)
Full Extent:
XMin: 3228700.074323673
YMin: -469629.101712639
XMax: 3365675.228991685
YMax: -391357.58475948917
Spatial Reference: 102100
(3857)
LatestVCSWkid(0)
Pixel Size X: 4.777314267160023
Pixel Size Y: 4.777314267160023
Band Count: 5
Pixel Type: U16
RasterFunction Infos: {"rasterFunctionInfos": [{
"name": "None",
"description": "",
"help": ""
}]}
Mensuration Capabilities: Basic
Inspection Capabilities:
Has Histograms: true
Has Colormap: false
Has Multi Dimensions : false
Rendering Rule:
Min Scale: 0
Max Scale: 0
Copyright Text:
Service Data Type: esriImageServiceDataTypeGeneric
Min Values: 0, 0, 0, 0, 65535
Max Values: 10000, 8403, 10000, 10000, 65535
Mean Values: 386.30926589454924, 588.7219058977706, 585.9253446523633, 2112.0641156009265, 65535
Standard Deviation Values: 99.35641430260483, 144.82393362000042, 247.03097662290426, 1025.4859319751217, 0
Object ID Field:
Fields:
None
Default Mosaic Method: Center
Allowed Mosaic Methods:
SortField:
SortValue: null
Mosaic Operator: First
Default Compression Quality: 75
Default Resampling Method: Bilinear
Max Record Count: null
Max Image Height: 4100
Max Image Width: 15000
Max Download Image Count: null
Max Mosaic Image Count: null
Allow Raster Function: true
Allow Copy: true
Allow Analysis: true
Allow Compute TiePoints: false
Supports Statistics: false
Supports Advanced Queries: false
Use StandardizedQueries: true
Raster Type Infos:
Name: Raster Dataset
Description: Supports all ArcGIS Raster Datasets
Help:
Has Raster Attribute Table: false
Edit Fields Info: null
Ownership Based AccessControl For Rasters: null
Child Resources:
Info
Histograms
Statistics
Key Properties
Legend
Raster Function Infos
Supported Operations:
Export Image
Identify
Measure
Compute Histograms
Compute Statistics Histograms
Get Samples
Compute Class Statistics
Query Boundary
Compute Pixel Location
Compute Angles
Validate
Project