View In:
ArcGIS JavaScript
ArcGIS Online Map Viewer
ArcGIS Earth
Service Description: BADEA/O844_Burundi_202108_PL
Name: BADEA/O844_Burundi_202108_PL
Description:
Single Fused Map Cache: false
Extent:
XMin: 3228700.074323673
YMin: -450061.2224743501
XMax: 3365675.228991685
YMax: -391357.58475948777
Spatial Reference: 102100
(3857)
LatestVCSWkid(0)
Initial Extent:
XMin: 3228700.074323673
YMin: -450061.2224743501
XMax: 3365675.228991685
YMax: -391357.58475948777
Spatial Reference: 102100
(3857)
LatestVCSWkid(0)
Full Extent:
XMin: 3228700.074323673
YMin: -450061.2224743501
XMax: 3365675.228991685
YMax: -391357.58475948777
Spatial Reference: 102100
(3857)
LatestVCSWkid(0)
Pixel Size X: 4.777314267160023
Pixel Size Y: 4.777314267160023
Band Count: 5
Pixel Type: U16
RasterFunction Infos: {"rasterFunctionInfos": [{
"name": "None",
"description": "",
"help": ""
}]}
Mensuration Capabilities: Basic
Inspection Capabilities:
Has Histograms: true
Has Colormap: false
Has Multi Dimensions : false
Rendering Rule:
Min Scale: 0
Max Scale: 0
Copyright Text:
Service Data Type: esriImageServiceDataTypeGeneric
Min Values: 0, 49, 0, 0, 65535
Max Values: 7099, 7205, 8860, 10000, 65535
Mean Values: 344.720023026069, 526.3675864901808, 524.2637924982441, 2157.68661921223, 65535
Standard Deviation Values: 82.57198795573738, 153.97918284365548, 262.457473060984, 1115.6559245322478, 0
Object ID Field:
Fields:
None
Default Mosaic Method: Center
Allowed Mosaic Methods:
SortField:
SortValue: null
Mosaic Operator: First
Default Compression Quality: 75
Default Resampling Method: Bilinear
Max Record Count: null
Max Image Height: 4100
Max Image Width: 15000
Max Download Image Count: null
Max Mosaic Image Count: null
Allow Raster Function: true
Allow Copy: true
Allow Analysis: true
Allow Compute TiePoints: false
Supports Statistics: false
Supports Advanced Queries: false
Use StandardizedQueries: true
Raster Type Infos:
Name: Raster Dataset
Description: Supports all ArcGIS Raster Datasets
Help:
Has Raster Attribute Table: false
Edit Fields Info: null
Ownership Based AccessControl For Rasters: null
Child Resources:
Info
Histograms
Statistics
Key Properties
Legend
Raster Function Infos
Supported Operations:
Export Image
Identify
Measure
Compute Histograms
Compute Statistics Histograms
Get Samples
Compute Class Statistics
Query Boundary
Compute Pixel Location
Compute Angles
Validate
Project