View In:
ArcGIS JavaScript
ArcGIS Online Map Viewer
ArcGIS Earth
Service Description: BADEA/O827_Liberia_JAN2022PL
Name: BADEA/O827_Liberia_JAN2022PL
Description:
Single Fused Map Cache: false
Extent:
XMin: -1095801.2373378351
YMin: 763147.2902994655
XMax: -1017529.7203846863
YMax: 860986.6864909022
Spatial Reference: 102100
(3857)
LatestVCSWkid(0)
Initial Extent:
XMin: -1095801.2373378351
YMin: 763147.2902994655
XMax: -1017529.7203846863
YMax: 860986.6864909022
Spatial Reference: 102100
(3857)
LatestVCSWkid(0)
Full Extent:
XMin: -1095801.2373378351
YMin: 763147.2902994655
XMax: -1017529.7203846863
YMax: 860986.6864909022
Spatial Reference: 102100
(3857)
LatestVCSWkid(0)
Pixel Size X: 4.777314267159966
Pixel Size Y: 4.777314267159994
Band Count: 5
Pixel Type: U16
RasterFunction Infos: {"rasterFunctionInfos": [{
"name": "None",
"description": "",
"help": ""
}]}
Mensuration Capabilities: Basic
Inspection Capabilities:
Has Histograms: true
Has Colormap: false
Has Multi Dimensions : false
Rendering Rule:
Min Scale: 0
Max Scale: 0
Copyright Text:
Service Data Type: esriImageServiceDataTypeGeneric
Min Values: 82, 164, 58, 772, 65535
Max Values: 4202, 4790, 6024, 7903, 65535
Mean Values: 277.9334620714188, 525.5832311660051, 386.66104885041716, 2883.848945224285, 65535
Standard Deviation Values: 35.23680129684749, 55.26317064232865, 87.49713019243481, 265.49671291973567, 0
Object ID Field:
Fields:
None
Default Mosaic Method: Center
Allowed Mosaic Methods:
SortField:
SortValue: null
Mosaic Operator: First
Default Compression Quality: 75
Default Resampling Method: Bilinear
Max Record Count: null
Max Image Height: 4100
Max Image Width: 15000
Max Download Image Count: null
Max Mosaic Image Count: null
Allow Raster Function: true
Allow Copy: true
Allow Analysis: true
Allow Compute TiePoints: false
Supports Statistics: false
Supports Advanced Queries: false
Use StandardizedQueries: true
Raster Type Infos:
Name: Raster Dataset
Description: Supports all ArcGIS Raster Datasets
Help:
Has Raster Attribute Table: false
Edit Fields Info: null
Ownership Based AccessControl For Rasters: null
Child Resources:
Info
Histograms
Statistics
Key Properties
Legend
Raster Function Infos
Supported Operations:
Export Image
Identify
Measure
Compute Histograms
Compute Statistics Histograms
Get Samples
Compute Class Statistics
Query Boundary
Compute Pixel Location
Compute Angles
Validate
Project