View In:
ArcGIS JavaScript
ArcGIS Online Map Viewer
ArcGIS Earth
Service Description: BADEA/O817_CotedIvoire_4February2022_WV2
Name: BADEA/O817_CotedIvoire_4February2022_WV2
Description:
Single Fused Map Cache: false
Extent:
XMin: -398482.44817968225
YMin: 743742.8878436431
XMax: -379303.87429615343
YMax: 763035.5780121408
Spatial Reference: 102100
(3857)
LatestVCSWkid(0)
Initial Extent:
XMin: -398482.44817968225
YMin: 743742.8878436431
XMax: -379303.87429615343
YMax: 763035.5780121408
Spatial Reference: 102100
(3857)
LatestVCSWkid(0)
Full Extent:
XMin: -398482.44817968225
YMin: 743742.8878436431
XMax: -379303.87429615343
YMax: 763035.5780121408
Spatial Reference: 102100
(3857)
LatestVCSWkid(0)
Pixel Size X: 0.5027149117569809
Pixel Size Y: 0.5027149117569829
Band Count: 3
Pixel Type: U8
RasterFunction Infos: {"rasterFunctionInfos": [{
"name": "None",
"description": "",
"help": ""
}]}
Mensuration Capabilities: Basic
Inspection Capabilities:
Has Histograms: true
Has Colormap: false
Has Multi Dimensions : false
Rendering Rule:
Min Scale: 0
Max Scale: 0
Copyright Text:
Service Data Type: esriImageServiceDataTypeRGB
Min Values: 0, 0, 0
Max Values: 255, 255, 255
Mean Values: 89.391568458995, 92.925465365142, 94.203852229491
Standard Deviation Values: 65.423716253284, 64.879184078359, 64.360908443884
Object ID Field:
Fields:
None
Default Mosaic Method: Center
Allowed Mosaic Methods:
SortField:
SortValue: null
Mosaic Operator: First
Default Compression Quality: 75
Default Resampling Method: Bilinear
Max Record Count: null
Max Image Height: 4100
Max Image Width: 15000
Max Download Image Count: null
Max Mosaic Image Count: null
Allow Raster Function: true
Allow Copy: true
Allow Analysis: true
Allow Compute TiePoints: false
Supports Statistics: false
Supports Advanced Queries: false
Use StandardizedQueries: true
Raster Type Infos:
Name: Raster Dataset
Description: Supports all ArcGIS Raster Datasets
Help:
Has Raster Attribute Table: false
Edit Fields Info: null
Ownership Based AccessControl For Rasters: null
Child Resources:
Info
Histograms
Statistics
Key Properties
Legend
Raster Function Infos
Supported Operations:
Export Image
Identify
Measure
Compute Histograms
Compute Statistics Histograms
Get Samples
Compute Class Statistics
Query Boundary
Compute Pixel Location
Compute Angles
Validate
Project