View In:
ArcGIS JavaScript
ArcGIS Online Map Viewer
ArcGIS Earth
Service Description: BADEA/O817_CotedIvoire_1February2022_2_WV2
Name: BADEA/O817_CotedIvoire_1February2022_2_WV2
Description:
Single Fused Map Cache: false
Extent:
XMin: -415615.47057398706
YMin: 736680.7737473496
XMax: -398148.8877482648
YMax: 754930.9113581855
Spatial Reference: 102100
(3857)
LatestVCSWkid(0)
Initial Extent:
XMin: -415615.47057398706
YMin: 736680.7737473496
XMax: -398148.8877482648
YMax: 754930.9113581855
Spatial Reference: 102100
(3857)
LatestVCSWkid(0)
Full Extent:
XMin: -415615.47057398706
YMin: 736680.7737473496
XMax: -398148.8877482648
YMax: 754930.9113581855
Spatial Reference: 102100
(3857)
LatestVCSWkid(0)
Pixel Size X: 0.47777730799612206
Pixel Size Y: 0.4777773079961212
Band Count: 3
Pixel Type: U8
RasterFunction Infos: {"rasterFunctionInfos": [{
"name": "None",
"description": "",
"help": ""
}]}
Mensuration Capabilities: Basic
Inspection Capabilities:
Has Histograms: true
Has Colormap: false
Has Multi Dimensions : false
Rendering Rule:
Min Scale: 0
Max Scale: 0
Resampling: false
Copyright Text:
Service Data Type: esriImageServiceDataTypeRGB
Min Values: 0, 0, 0
Max Values: 254, 254, 254
Mean Values: 61.559054228091, 62.574834019795, 61.356500109154
Standard Deviation Values: 16.356129876477, 13.623872128378, 12.204920463979
Object ID Field:
Fields:
None
Default Mosaic Method: Center
Allowed Mosaic Methods:
SortField:
SortValue: null
Mosaic Operator: First
Default Compression Quality: 75
Default Resampling Method: Bilinear
Max Record Count: null
Max Image Height: 4100
Max Image Width: 15000
Max Download Image Count: null
Max Mosaic Image Count: null
Allow Raster Function: true
Allow Copy: true
Allow Analysis: true
Allow Compute TiePoints: false
Supports Statistics: false
Supports Advanced Queries: false
Use StandardizedQueries: true
Raster Type Infos:
Name: Raster Dataset
Description: Supports all ArcGIS Raster Datasets
Help:
Has Raster Attribute Table: false
Edit Fields Info: null
Ownership Based AccessControl For Rasters: null
Child Resources:
Info
Histograms
Statistics
Key Properties
Legend
Raster Function Infos
Supported Operations:
Export Image
Identify
Measure
Compute Histograms
Compute Statistics Histograms
Get Samples
Compute Class Statistics
Query Boundary
Compute Pixel Location
Compute Angles
Validate
Project