View In:
ArcGIS JavaScript
ArcGIS Online Map Viewer
ArcGIS Earth
ArcMap
View Footprint In:
ArcGIS Online Map Viewer
Service Description: BADEA/O809_MOZ_10OCT2022_GE01
Name: BADEA/O809_MOZ_10OCT2022_GE01
Description:
Single Fused Map Cache: false
Extent:
XMin: 38.89984322931558
YMin: -14.73176488315914
XMax: 38.952713294261955
YMax: -14.699096583871103
Spatial Reference: 4326
(4326)
Initial Extent:
XMin: 38.89984322931558
YMin: -14.73176488315914
XMax: 38.952713294261955
YMax: -14.699096583871103
Spatial Reference: 4326
(4326)
Full Extent:
XMin: 38.89984322931558
YMin: -14.73176488315914
XMax: 38.952713294261955
YMax: -14.699096583871103
Spatial Reference: 4326
(4326)
Pixel Size X: 4.4634921862706465E-6
Pixel Size Y: 4.463492183090199E-6
Band Count: 3
Pixel Type: U8
RasterFunction Infos: {"rasterFunctionInfos": [{
"name": "None",
"description": "",
"help": ""
}]}
Mensuration Capabilities: Basic
Has Histograms: true
Has Colormap: false
Has Multi Dimensions : false
Rendering Rule:
Min Scale: 0
Max Scale: 0
Copyright Text:
Service Data Type: esriImageServiceDataTypeRGB
Min Values: 1, 1, 1
Max Values: 255, 255, 255
Mean Values: 114.31678737825436, 107.54016580586642, 96.29476420709706
Standard Deviation Values: 38.00068524720828, 32.86307852940343, 30.85223934229844
Object ID Field:
Fields:
None
Default Mosaic Method: Center
Allowed Mosaic Methods:
SortField:
SortValue: null
Mosaic Operator: First
Default Compression Quality: 75
Default Resampling Method: Bilinear
Max Record Count: null
Max Image Height: 4100
Max Image Width: 15000
Max Download Image Count: null
Max Mosaic Image Count: null
Allow Raster Function: true
Allow Copy: true
Allow Analysis: true
Allow Compute TiePoints: false
Supports Statistics: false
Supports Advanced Queries: false
Use StandardizedQueries: true
Raster Type Infos:
Name: Raster Dataset
Description: Supports all ArcGIS Raster Datasets
Help:
Has Raster Attribute Table: false
Edit Fields Info: null
Ownership Based AccessControl For Rasters: null
Child Resources:
Info
Histograms
Statistics
Key Properties
Legend
Raster Function Infos
Supported Operations:
Export Image
Identify
Measure
Compute Histograms
Compute Statistics Histograms
Get Samples
Compute Class Statistics
Query Boundary
Compute Pixel Location
Compute Angles
Validate
Project