View In:
ArcGIS JavaScript
ArcGIS Online Map Viewer
ArcGIS Earth
Service Description: BADEA/O808_Madgascar_13Apr2023_WV2
Name: BADEA/O808_Madgascar_13Apr2023_WV2
Description:
Single Fused Map Cache: false
Extent:
XMin: 49.59943199999665
YMin: -16.898966999968422
XMax: 49.62161699999029
YMax: -16.870468499976596
Spatial Reference: 4326
(4326)
LatestVCSWkid(0)
Initial Extent:
XMin: 49.59943199999665
YMin: -16.898966999968422
XMax: 49.62161699999029
YMax: -16.870468499976596
Spatial Reference: 4326
(4326)
LatestVCSWkid(0)
Full Extent:
XMin: 49.59943199999665
YMin: -16.898966999968422
XMax: 49.62161699999029
YMax: -16.870468499976596
Spatial Reference: 4326
(4326)
LatestVCSWkid(0)
Pixel Size X: 4.4999999987086975E-6
Pixel Size Y: 4.499999998709383E-6
Band Count: 3
Pixel Type: U8
RasterFunction Infos: {"rasterFunctionInfos": [{
"name": "None",
"description": "",
"help": ""
}]}
Mensuration Capabilities: Basic
Inspection Capabilities:
Has Histograms: true
Has Colormap: false
Has Multi Dimensions : false
Rendering Rule:
Min Scale: 0
Max Scale: 0
Resampling: false
Copyright Text:
Service Data Type: esriImageServiceDataTypeRGB
Min Values: 1, 1, 1
Max Values: 255, 255, 255
Mean Values: 88.83522540361479, 87.03425830421065, 75.2817518191129
Standard Deviation Values: 26.62134351091628, 23.82523649598417, 19.36510655477544
Object ID Field:
Fields:
None
Default Mosaic Method: Center
Allowed Mosaic Methods:
SortField:
SortValue: null
Mosaic Operator: First
Default Compression Quality: 75
Default Resampling Method: Bilinear
Max Record Count: null
Max Image Height: 4100
Max Image Width: 15000
Max Download Image Count: null
Max Mosaic Image Count: null
Allow Raster Function: true
Allow Copy: true
Allow Analysis: true
Allow Compute TiePoints: false
Supports Statistics: false
Supports Advanced Queries: false
Use StandardizedQueries: true
Raster Type Infos:
Name: Raster Dataset
Description: Supports all ArcGIS Raster Datasets
Help:
Has Raster Attribute Table: false
Edit Fields Info: null
Ownership Based AccessControl For Rasters: null
Child Resources:
Info
Histograms
Statistics
Key Properties
Legend
Raster Function Infos
Supported Operations:
Export Image
Identify
Measure
Compute Histograms
Compute Statistics Histograms
Get Samples
Compute Class Statistics
Query Boundary
Compute Pixel Location
Compute Angles
Validate
Project