View In:
ArcGIS JavaScript
ArcGIS Online Map Viewer
ArcGIS Earth
ArcMap
View Footprint In:
ArcGIS Online Map Viewer
Service Description: BADEA/O805_Benin_Jan22_PL_tif
Name: BADEA/O805_Benin_Jan22_PL_tif
Description:
Single Fused Map Cache: false
Extent:
XMin: 273950.30934228003
YMin: 724011.5318228916
XMax: 293518.18858056737
YMax: 743579.4110611789
Spatial Reference: 102100
(3857)
Initial Extent:
XMin: 273950.30934228003
YMin: 724011.5318228916
XMax: 293518.18858056737
YMax: 743579.4110611789
Spatial Reference: 102100
(3857)
Full Extent:
XMin: 273950.30934228003
YMin: 724011.5318228916
XMax: 293518.18858056737
YMax: 743579.4110611789
Spatial Reference: 102100
(3857)
Pixel Size X: 4.777314267159994
Pixel Size Y: 4.777314267159994
Band Count: 5
Pixel Type: U16
RasterFunction Infos: {"rasterFunctionInfos": [{
"name": "None",
"description": "",
"help": ""
}]}
Mensuration Capabilities: Basic
Has Histograms: false
Has Colormap: false
Has Multi Dimensions : false
Rendering Rule:
Min Scale: 0
Max Scale: 0
Copyright Text:
Service Data Type: esriImageServiceDataTypeGeneric
Min Values: 203, 514, 372, 456, 65535
Max Values: 2446, 7215, 7179, 8077, 65535
Mean Values: 375.96272867914, 796.75158095359, 747.85339969401, 2939.0488326547, 65535
Standard Deviation Values: 45.277360735259, 65.534835332111, 137.17882597378, 521.72895444772, 0
Object ID Field:
Fields:
None
Default Mosaic Method: Center
Allowed Mosaic Methods:
SortField:
SortValue: null
Mosaic Operator: First
Default Compression Quality: 75
Default Resampling Method: Bilinear
Max Record Count: null
Max Image Height: 4100
Max Image Width: 15000
Max Download Image Count: null
Max Mosaic Image Count: null
Allow Raster Function: true
Allow Copy: true
Allow Analysis: true
Allow Compute TiePoints: false
Supports Statistics: false
Supports Advanced Queries: false
Use StandardizedQueries: true
Raster Type Infos:
Name: Raster Dataset
Description: Supports all ArcGIS Raster Datasets
Help:
Has Raster Attribute Table: false
Edit Fields Info: null
Ownership Based AccessControl For Rasters: null
Child Resources:
Info
Statistics
Key Properties
Legend
Raster Function Infos
Supported Operations:
Export Image
Identify
Measure
Compute Histograms
Compute Statistics Histograms
Get Samples
Compute Class Statistics
Query Boundary
Compute Pixel Location
Compute Angles
Validate
Project