View In:
ArcGIS JavaScript
ArcGIS Online Map Viewer
ArcGIS Earth
Service Description: BADEA/O805_Benin_24Dec2022
Name: BADEA/O805_Benin_24Dec2022
Description:
Single Fused Map Cache: false
Extent:
XMin: 2.540798999999646
YMin: 6.5996999999991175
XMax: 2.5490924999994657
YMax: 6.606436499999567
Spatial Reference: 4326
(4326)
LatestVCSWkid(0)
Initial Extent:
XMin: 2.540798999999646
YMin: 6.5996999999991175
XMax: 2.5490924999994657
YMax: 6.606436499999567
Spatial Reference: 4326
(4326)
LatestVCSWkid(0)
Full Extent:
XMin: 2.540798999999646
YMin: 6.5996999999991175
XMax: 2.5490924999994657
YMax: 6.606436499999567
Spatial Reference: 4326
(4326)
LatestVCSWkid(0)
Pixel Size X: 4.499999999902265E-6
Pixel Size Y: 4.500000000300013E-6
Band Count: 3
Pixel Type: U8
RasterFunction Infos: {"rasterFunctionInfos": [{
"name": "None",
"description": "",
"help": ""
}]}
Mensuration Capabilities: Basic
Inspection Capabilities:
Has Histograms: true
Has Colormap: false
Has Multi Dimensions : false
Rendering Rule:
Min Scale: 0
Max Scale: 0
Resampling: false
Copyright Text:
Service Data Type: esriImageServiceDataTypeRGB
Min Values: 1, 1, 1
Max Values: 255, 255, 255
Mean Values: 104.76324107792362, 96.26941674994046, 80.91248295107125
Standard Deviation Values: 37.39192109277843, 28.03326312126399, 24.79747146577496
Object ID Field:
Fields:
None
Default Mosaic Method: Center
Allowed Mosaic Methods:
SortField:
SortValue: null
Mosaic Operator: First
Default Compression Quality: 75
Default Resampling Method: Bilinear
Max Record Count: null
Max Image Height: 4100
Max Image Width: 15000
Max Download Image Count: null
Max Mosaic Image Count: null
Allow Raster Function: true
Allow Copy: true
Allow Analysis: true
Allow Compute TiePoints: false
Supports Statistics: false
Supports Advanced Queries: false
Use StandardizedQueries: true
Raster Type Infos:
Name: Raster Dataset
Description: Supports all ArcGIS Raster Datasets
Help:
Has Raster Attribute Table: false
Edit Fields Info: null
Ownership Based AccessControl For Rasters: null
Child Resources:
Info
Histograms
Statistics
Key Properties
Legend
Raster Function Infos
Supported Operations:
Export Image
Identify
Measure
Compute Histograms
Compute Statistics Histograms
Get Samples
Compute Class Statistics
Query Boundary
Compute Pixel Location
Compute Angles
Validate
Project