View In:
ArcGIS JavaScript
ArcGIS Online Map Viewer
ArcGIS Earth
Service Description: BADEA/O805_Benin_22January2022_WV2
Name: BADEA/O805_Benin_22January2022_WV2
Description:
Single Fused Map Cache: false
Extent:
XMin: 2.5377545525765424
YMin: 6.598534984852411
XMax: 2.5508884997635106
YMax: 6.607572980223388
Spatial Reference: 4326
(4326)
LatestVCSWkid(0)
Initial Extent:
XMin: 2.5377545525765424
YMin: 6.598534984852411
XMax: 2.5508884997635106
YMax: 6.607572980223388
Spatial Reference: 4326
(4326)
LatestVCSWkid(0)
Full Extent:
XMin: 2.5377545525765424
YMin: 6.598534984852411
XMax: 2.5508884997635106
YMax: 6.607572980223388
Spatial Reference: 4326
(4326)
LatestVCSWkid(0)
Pixel Size X: 4.338932007587794E-6
Pixel Size Y: 4.33893200719008E-6
Band Count: 3
Pixel Type: U8
RasterFunction Infos: {"rasterFunctionInfos": [{
"name": "None",
"description": "",
"help": ""
}]}
Mensuration Capabilities: Basic
Inspection Capabilities:
Has Histograms: true
Has Colormap: false
Has Multi Dimensions : false
Rendering Rule:
Min Scale: 0
Max Scale: 0
Resampling: false
Copyright Text:
Service Data Type: esriImageServiceDataTypeRGB
Min Values: 1, 1, 1
Max Values: 255, 255, 255
Mean Values: 108.39866691852, 118.76261081853, 116.62599827668
Standard Deviation Values: 41.733077343834, 34.900082358342, 41.19746508973
Object ID Field:
Fields:
None
Default Mosaic Method: Center
Allowed Mosaic Methods:
SortField:
SortValue: null
Mosaic Operator: First
Default Compression Quality: 75
Default Resampling Method: Bilinear
Max Record Count: null
Max Image Height: 4100
Max Image Width: 15000
Max Download Image Count: null
Max Mosaic Image Count: null
Allow Raster Function: true
Allow Copy: true
Allow Analysis: true
Allow Compute TiePoints: false
Supports Statistics: false
Supports Advanced Queries: false
Use StandardizedQueries: true
Raster Type Infos:
Name: Raster Dataset
Description: Supports all ArcGIS Raster Datasets
Help:
Has Raster Attribute Table: false
Edit Fields Info: null
Ownership Based AccessControl For Rasters: null
Child Resources:
Info
Histograms
Statistics
Key Properties
Legend
Raster Function Infos
Supported Operations:
Export Image
Identify
Measure
Compute Histograms
Compute Statistics Histograms
Get Samples
Compute Class Statistics
Query Boundary
Compute Pixel Location
Compute Angles
Validate
Project