View In:
ArcGIS JavaScript
ArcGIS Online Map Viewer
ArcGIS Earth
Service Description: BADEA/O805_Benin_16May2020_WV2
Name: BADEA/O805_Benin_16May2020_WV2
Description:
Single Fused Map Cache: false
Extent:
XMin: 281080.4509187983
YMin: 735491.0524543569
XMax: 285667.2297932206
YMax: 737772.9924690083
Spatial Reference: 102100
(3857)
LatestVCSWkid(0)
Initial Extent:
XMin: 281080.4509187983
YMin: 735491.0524543569
XMax: 285667.2297932206
YMax: 737772.9924690083
Spatial Reference: 102100
(3857)
LatestVCSWkid(0)
Full Extent:
XMin: 281080.4509187983
YMin: 735491.0524543569
XMax: 285667.2297932206
YMax: 737772.9924690083
Spatial Reference: 102100
(3857)
LatestVCSWkid(0)
Pixel Size X: 0.4673233697832203
Pixel Size Y: 0.46732336978320593
Band Count: 3
Pixel Type: U8
RasterFunction Infos: {"rasterFunctionInfos": [{
"name": "None",
"description": "",
"help": ""
}]}
Mensuration Capabilities: Basic
Inspection Capabilities:
Has Histograms: true
Has Colormap: false
Has Multi Dimensions : false
Rendering Rule:
Min Scale: 0
Max Scale: 0
Resampling: false
Copyright Text:
Service Data Type: esriImageServiceDataTypeRGB
Min Values: 0, 0, 0
Max Values: 255, 255, 255
Mean Values: 86.539337105677, 87.516524012907, 81.66705065626
Standard Deviation Values: 42.724341889348, 43.184377792989, 44.374566400902
Object ID Field:
Fields:
None
Default Mosaic Method: Center
Allowed Mosaic Methods:
SortField:
SortValue: null
Mosaic Operator: First
Default Compression Quality: 75
Default Resampling Method: Bilinear
Max Record Count: null
Max Image Height: 4100
Max Image Width: 15000
Max Download Image Count: null
Max Mosaic Image Count: null
Allow Raster Function: true
Allow Copy: true
Allow Analysis: true
Allow Compute TiePoints: false
Supports Statistics: false
Supports Advanced Queries: false
Use StandardizedQueries: true
Raster Type Infos:
Name: Raster Dataset
Description: Supports all ArcGIS Raster Datasets
Help:
Has Raster Attribute Table: false
Edit Fields Info: null
Ownership Based AccessControl For Rasters: null
Child Resources:
Info
Histograms
Statistics
Key Properties
Legend
Raster Function Infos
Supported Operations:
Export Image
Identify
Measure
Compute Histograms
Compute Statistics Histograms
Get Samples
Compute Class Statistics
Query Boundary
Compute Pixel Location
Compute Angles
Validate
Project