View In:
ArcGIS JavaScript
ArcGIS Online Map Viewer
ArcGIS Earth
Service Description: BADEA/O801_Guinea_2December2022_GE01
Name: BADEA/O801_Guinea_2December2022_GE01
Description:
Single Fused Map Cache: false
Extent:
XMin: -8.659625894089512
YMin: 10.634411067217421
XMax: -8.601239804733593
YMax: 10.678300115518685
Spatial Reference: 4326
(4326)
LatestVCSWkid(0)
Initial Extent:
XMin: -8.659625894089512
YMin: 10.634411067217421
XMax: -8.601239804733593
YMax: 10.678300115518685
Spatial Reference: 4326
(4326)
LatestVCSWkid(0)
Full Extent:
XMin: -8.659625894089512
YMin: 10.634411067217421
XMax: -8.601239804733593
YMax: 10.678300115518685
Spatial Reference: 4326
(4326)
LatestVCSWkid(0)
Pixel Size X: 4.188685655780093E-6
Pixel Size Y: 4.188685655780063E-6
Band Count: 3
Pixel Type: U8
RasterFunction Infos: {"rasterFunctionInfos": [{
"name": "None",
"description": "",
"help": ""
}]}
Mensuration Capabilities: Basic
Inspection Capabilities:
Has Histograms: true
Has Colormap: false
Has Multi Dimensions : false
Rendering Rule:
Min Scale: 0
Max Scale: 0
Copyright Text:
Service Data Type: esriImageServiceDataTypeRGB
Min Values: 1, 1, 1
Max Values: 255, 255, 255
Mean Values: 168.73885528068126, 154.35042871844425, 146.43100033641574
Standard Deviation Values: 33.08572959831595, 33.555358626564846, 35.35730080947615
Object ID Field:
Fields:
None
Default Mosaic Method: Center
Allowed Mosaic Methods:
SortField:
SortValue: null
Mosaic Operator: First
Default Compression Quality: 75
Default Resampling Method: Bilinear
Max Record Count: null
Max Image Height: 4100
Max Image Width: 15000
Max Download Image Count: null
Max Mosaic Image Count: null
Allow Raster Function: true
Allow Copy: true
Allow Analysis: true
Allow Compute TiePoints: false
Supports Statistics: false
Supports Advanced Queries: false
Use StandardizedQueries: true
Raster Type Infos:
Name: Raster Dataset
Description: Supports all ArcGIS Raster Datasets
Help:
Has Raster Attribute Table: false
Edit Fields Info: null
Ownership Based AccessControl For Rasters: null
Child Resources:
Info
Histograms
Statistics
Key Properties
Legend
Raster Function Infos
Supported Operations:
Export Image
Identify
Measure
Compute Histograms
Compute Statistics Histograms
Get Samples
Compute Class Statistics
Query Boundary
Compute Pixel Location
Compute Angles
Validate
Project