View In:
ArcGIS JavaScript
ArcGIS Online Map Viewer
ArcGIS Earth
Service Description: BADEA/O801_Guinea_12May222_WV02
Name: BADEA/O801_Guinea_12May222_WV02
Description:
Single Fused Map Cache: false
Extent:
XMin: -9.032998499999788
YMin: 9.259078499999314
XMax: -9.018490499998823
YMax: 9.270031500000043
Spatial Reference: 4326
(4326)
LatestVCSWkid(0)
Initial Extent:
XMin: -9.032998499999788
YMin: 9.259078499999314
XMax: -9.018490499998823
YMax: 9.270031500000043
Spatial Reference: 4326
(4326)
LatestVCSWkid(0)
Full Extent:
XMin: -9.032998499999788
YMin: 9.259078499999314
XMax: -9.018490499998823
YMax: 9.270031500000043
Spatial Reference: 4326
(4326)
LatestVCSWkid(0)
Pixel Size X: 4.500000000299515E-6
Pixel Size Y: 4.5000000002994915E-6
Band Count: 3
Pixel Type: U8
RasterFunction Infos: {"rasterFunctionInfos": [{
"name": "None",
"description": "",
"help": ""
}]}
Mensuration Capabilities: Basic
Inspection Capabilities:
Has Histograms: true
Has Colormap: false
Has Multi Dimensions : false
Rendering Rule:
Min Scale: 0
Max Scale: 0
Copyright Text:
Service Data Type: esriImageServiceDataTypeRGB
Min Values: 1, 1, 1
Max Values: 255, 255, 255
Mean Values: 128.42035273180343, 118.67120683962897, 117.77284552504081
Standard Deviation Values: 31.9955327754587, 25.356266672020038, 24.594199239107542
Object ID Field:
Fields:
None
Default Mosaic Method: Center
Allowed Mosaic Methods:
SortField:
SortValue: null
Mosaic Operator: First
Default Compression Quality: 75
Default Resampling Method: Bilinear
Max Record Count: null
Max Image Height: 4100
Max Image Width: 15000
Max Download Image Count: null
Max Mosaic Image Count: null
Allow Raster Function: true
Allow Copy: true
Allow Analysis: true
Allow Compute TiePoints: false
Supports Statistics: false
Supports Advanced Queries: false
Use StandardizedQueries: true
Raster Type Infos:
Name: Raster Dataset
Description: Supports all ArcGIS Raster Datasets
Help:
Has Raster Attribute Table: false
Edit Fields Info: null
Ownership Based AccessControl For Rasters: null
Child Resources:
Info
Histograms
Statistics
Key Properties
Legend
Raster Function Infos
Supported Operations:
Export Image
Identify
Measure
Compute Histograms
Compute Statistics Histograms
Get Samples
Compute Class Statistics
Query Boundary
Compute Pixel Location
Compute Angles
Validate
Project