View In:
ArcGIS JavaScript
ArcGIS Online Map Viewer
ArcGIS Earth
Service Description: BADEA/O799_Cameroon_30Mar2023_GE01
Name: BADEA/O799_Cameroon_30Mar2023_GE01
Description:
Single Fused Map Cache: false
Extent:
XMin: 13.233719437783602
YMin: 7.266097832770331
XMax: 13.300290042760695
YMax: 7.307005599565478
Spatial Reference: 4326
(4326)
LatestVCSWkid(0)
Initial Extent:
XMin: 13.233719437783602
YMin: 7.266097832770331
XMax: 13.300290042760695
YMax: 7.307005599565478
Spatial Reference: 4326
(4326)
LatestVCSWkid(0)
Full Extent:
XMin: 13.233719437783602
YMin: 7.266097832770331
XMax: 13.300290042760695
YMax: 7.307005599565478
Spatial Reference: 4326
(4326)
LatestVCSWkid(0)
Pixel Size X: 4.063147276433892E-6
Pixel Size Y: 4.063147278024154E-6
Band Count: 3
Pixel Type: U8
RasterFunction Infos: {"rasterFunctionInfos": [{
"name": "None",
"description": "",
"help": ""
}]}
Mensuration Capabilities: Basic
Inspection Capabilities:
Has Histograms: true
Has Colormap: false
Has Multi Dimensions : false
Rendering Rule:
Min Scale: 0
Max Scale: 0
Copyright Text:
Service Data Type: esriImageServiceDataTypeRGB
Min Values: 1, 1, 1
Max Values: 255, 255, 255
Mean Values: 152.9244212839023, 145.74226740707138, 136.68841209002417
Standard Deviation Values: 32.45144926685276, 29.870371008928146, 28.141542208084296
Object ID Field:
Fields:
None
Default Mosaic Method: Center
Allowed Mosaic Methods:
SortField:
SortValue: null
Mosaic Operator: First
Default Compression Quality: 75
Default Resampling Method: Bilinear
Max Record Count: null
Max Image Height: 4100
Max Image Width: 15000
Max Download Image Count: null
Max Mosaic Image Count: null
Allow Raster Function: true
Allow Copy: true
Allow Analysis: true
Allow Compute TiePoints: false
Supports Statistics: false
Supports Advanced Queries: false
Use StandardizedQueries: true
Raster Type Infos:
Name: Raster Dataset
Description: Supports all ArcGIS Raster Datasets
Help:
Has Raster Attribute Table: false
Edit Fields Info: null
Ownership Based AccessControl For Rasters: null
Child Resources:
Info
Histograms
Statistics
Key Properties
Legend
Raster Function Infos
Supported Operations:
Export Image
Identify
Measure
Compute Histograms
Compute Statistics Histograms
Get Samples
Compute Class Statistics
Query Boundary
Compute Pixel Location
Compute Angles
Validate
Project