View In:
ArcGIS JavaScript
ArcGIS Online Map Viewer
ArcGIS Earth
Service Description: BADEA/O799_Cameroon_25Feb2022_WV02
Name: BADEA/O799_Cameroon_25Feb2022_WV02
Description:
Single Fused Map Cache: false
Extent:
XMin: 14.014777500000003
YMin: 7.073765999997274
XMax: 14.088505500004917
YMax: 7.114689000000002
Spatial Reference: 4326
(4326)
LatestVCSWkid(0)
Initial Extent:
XMin: 14.014777500000003
YMin: 7.073765999997274
XMax: 14.088505500004917
YMax: 7.114689000000002
Spatial Reference: 4326
(4326)
LatestVCSWkid(0)
Full Extent:
XMin: 14.014777500000003
YMin: 7.073765999997274
XMax: 14.088505500004917
YMax: 7.114689000000002
Spatial Reference: 4326
(4326)
LatestVCSWkid(0)
Pixel Size X: 4.5000000002999455E-6
Pixel Size Y: 4.5000000002999624E-6
Band Count: 3
Pixel Type: U8
RasterFunction Infos: {"rasterFunctionInfos": [{
"name": "None",
"description": "",
"help": ""
}]}
Mensuration Capabilities: Basic
Inspection Capabilities:
Has Histograms: true
Has Colormap: false
Has Multi Dimensions : false
Rendering Rule:
Min Scale: 0
Max Scale: 0
Copyright Text:
Service Data Type: esriImageServiceDataTypeRGB
Min Values: 1, 1, 1
Max Values: 255, 255, 255
Mean Values: 169.2220710064779, 143.0364052625916, 140.46949748938388
Standard Deviation Values: 33.26079274965375, 31.361897301533435, 27.668494685870357
Object ID Field:
Fields:
None
Default Mosaic Method: Center
Allowed Mosaic Methods:
SortField:
SortValue: null
Mosaic Operator: First
Default Compression Quality: 75
Default Resampling Method: Bilinear
Max Record Count: null
Max Image Height: 4100
Max Image Width: 15000
Max Download Image Count: null
Max Mosaic Image Count: null
Allow Raster Function: true
Allow Copy: true
Allow Analysis: true
Allow Compute TiePoints: false
Supports Statistics: false
Supports Advanced Queries: false
Use StandardizedQueries: true
Raster Type Infos:
Name: Raster Dataset
Description: Supports all ArcGIS Raster Datasets
Help:
Has Raster Attribute Table: false
Edit Fields Info: null
Ownership Based AccessControl For Rasters: null
Child Resources:
Info
Histograms
Statistics
Key Properties
Legend
Raster Function Infos
Supported Operations:
Export Image
Identify
Measure
Compute Histograms
Compute Statistics Histograms
Get Samples
Compute Class Statistics
Query Boundary
Compute Pixel Location
Compute Angles
Validate
Project