View In:
ArcGIS JavaScript
ArcGIS Online Map Viewer
ArcGIS Earth
Service Description: BADEA/O799_Cameroon_08Jan2023_WV02
Name: BADEA/O799_Cameroon_08Jan2023_WV02
Description:
Single Fused Map Cache: false
Extent:
XMin: 13.554639000000003
YMin: 7.8397424999972785
XMax: 13.628366999978862
YMax: 7.880598000000002
Spatial Reference: 4326
(4326)
LatestVCSWkid(0)
Initial Extent:
XMin: 13.554639000000003
YMin: 7.8397424999972785
XMax: 13.628366999978862
YMax: 7.880598000000002
Spatial Reference: 4326
(4326)
LatestVCSWkid(0)
Full Extent:
XMin: 13.554639000000003
YMin: 7.8397424999972785
XMax: 13.628366999978862
YMax: 7.880598000000002
Spatial Reference: 4326
(4326)
LatestVCSWkid(0)
Pixel Size X: 4.499999998709638E-6
Pixel Size Y: 4.500000000299957E-6
Band Count: 3
Pixel Type: U8
RasterFunction Infos: {"rasterFunctionInfos": [{
"name": "None",
"description": "",
"help": ""
}]}
Mensuration Capabilities: Basic
Inspection Capabilities:
Has Histograms: true
Has Colormap: false
Has Multi Dimensions : false
Rendering Rule:
Min Scale: 0
Max Scale: 0
Copyright Text:
Service Data Type: esriImageServiceDataTypeRGB
Min Values: 1, 1, 1
Max Values: 255, 255, 255
Mean Values: 166.52753589746513, 149.25143299172112, 144.3130730138317
Standard Deviation Values: 34.04396673877362, 31.56361060876551, 26.983761180711657
Object ID Field:
Fields:
None
Default Mosaic Method: Center
Allowed Mosaic Methods:
SortField:
SortValue: null
Mosaic Operator: First
Default Compression Quality: 75
Default Resampling Method: Bilinear
Max Record Count: null
Max Image Height: 4100
Max Image Width: 15000
Max Download Image Count: null
Max Mosaic Image Count: null
Allow Raster Function: true
Allow Copy: true
Allow Analysis: true
Allow Compute TiePoints: false
Supports Statistics: false
Supports Advanced Queries: false
Use StandardizedQueries: true
Raster Type Infos:
Name: Raster Dataset
Description: Supports all ArcGIS Raster Datasets
Help:
Has Raster Attribute Table: false
Edit Fields Info: null
Ownership Based AccessControl For Rasters: null
Child Resources:
Info
Histograms
Statistics
Key Properties
Legend
Raster Function Infos
Supported Operations:
Export Image
Identify
Measure
Compute Histograms
Compute Statistics Histograms
Get Samples
Compute Class Statistics
Query Boundary
Compute Pixel Location
Compute Angles
Validate
Project