View In:
ArcGIS JavaScript
ArcGIS Online Map Viewer
ArcGIS Earth
ArcMap
View Footprint In:
ArcGIS Online Map Viewer
Service Description: BADEA/O795_SaoTomePrincipe_09Feb2023_SantanVille
Name: BADEA/O795_SaoTomePrincipe_09Feb2023_SantanVille
Description:
Single Fused Map Cache: false
Extent:
XMin: 6.7300514999998144
YMin: 0.25019549999997115
XMax: 6.745999499998059
YMax: 0.26110349999997545
Spatial Reference: 4326
(4326)
Initial Extent:
XMin: 6.7300514999998144
YMin: 0.25019549999997115
XMax: 6.745999499998059
YMax: 0.26110349999997545
Spatial Reference: 4326
(4326)
Full Extent:
XMin: 6.7300514999998144
YMin: 0.25019549999997115
XMax: 6.745999499998059
YMax: 0.26110349999997545
Spatial Reference: 4326
(4326)
Pixel Size X: 4.499999999504743E-6
Pixel Size Y: 4.5000000000017755E-6
Band Count: 3
Pixel Type: U8
RasterFunction Infos: {"rasterFunctionInfos": [{
"name": "None",
"description": "",
"help": ""
}]}
Mensuration Capabilities: Basic
Has Histograms: true
Has Colormap: false
Has Multi Dimensions : false
Rendering Rule:
Min Scale: 0
Max Scale: 0
Copyright Text:
Service Data Type: esriImageServiceDataTypeRGB
Min Values: 1, 1, 1
Max Values: 255, 255, 255
Mean Values: 57.74493321581029, 60.87012668182732, 47.451411626772156
Standard Deviation Values: 18.97332779971612, 15.95541023714475, 15.547922022987425
Object ID Field:
Fields:
None
Default Mosaic Method: Center
Allowed Mosaic Methods:
SortField:
SortValue: null
Mosaic Operator: First
Default Compression Quality: 75
Default Resampling Method: Bilinear
Max Record Count: null
Max Image Height: 4100
Max Image Width: 15000
Max Download Image Count: null
Max Mosaic Image Count: null
Allow Raster Function: true
Allow Copy: true
Allow Analysis: true
Allow Compute TiePoints: false
Supports Statistics: false
Supports Advanced Queries: false
Use StandardizedQueries: true
Raster Type Infos:
Name: Raster Dataset
Description: Supports all ArcGIS Raster Datasets
Help:
Has Raster Attribute Table: false
Edit Fields Info: null
Ownership Based AccessControl For Rasters: null
Child Resources:
Info
Histograms
Statistics
Key Properties
Legend
Raster Function Infos
Supported Operations:
Export Image
Identify
Measure
Compute Histograms
Compute Statistics Histograms
Get Samples
Compute Class Statistics
Query Boundary
Compute Pixel Location
Compute Angles
Validate
Project