View In:
ArcGIS JavaScript
ArcGIS Online Map Viewer
ArcGIS Earth
Service Description: BADEA/O794_TZA_15December2022_WV02
Name: BADEA/O794_TZA_15December2022_WV02
Description:
Single Fused Map Cache: false
Extent:
XMin: 37.6307438732178
YMin: -3.8448743239512764
XMax: 37.64430609280721
YMax: -3.834494682466692
Spatial Reference: 4326
(4326)
LatestVCSWkid(0)
Initial Extent:
XMin: 37.6307438732178
YMin: -3.8448743239512764
XMax: 37.64430609280721
YMax: -3.834494682466692
Spatial Reference: 4326
(4326)
LatestVCSWkid(0)
Full Extent:
XMin: 37.6307438732178
YMin: -3.8448743239512764
XMax: 37.64430609280721
YMax: -3.834494682466692
Spatial Reference: 4326
(4326)
LatestVCSWkid(0)
Pixel Size X: 4.266190496826066E-6
Pixel Size Y: 4.266190499212692E-6
Band Count: 3
Pixel Type: U8
RasterFunction Infos: {"rasterFunctionInfos": [{
"name": "None",
"description": "",
"help": ""
}]}
Mensuration Capabilities: Basic
Inspection Capabilities:
Has Histograms: true
Has Colormap: false
Has Multi Dimensions : false
Rendering Rule:
Min Scale: 0
Max Scale: 0
Copyright Text:
Service Data Type: esriImageServiceDataTypeRGB
Min Values: 1, 1, 1
Max Values: 255, 255, 255
Mean Values: 160.16063884096283, 123.00135053481232, 116.12842141664099
Standard Deviation Values: 24.676002318541123, 17.42993153498126, 15.944578343872385
Object ID Field:
Fields:
None
Default Mosaic Method: Center
Allowed Mosaic Methods:
SortField:
SortValue: null
Mosaic Operator: First
Default Compression Quality: 75
Default Resampling Method: Bilinear
Max Record Count: null
Max Image Height: 4100
Max Image Width: 15000
Max Download Image Count: null
Max Mosaic Image Count: null
Allow Raster Function: true
Allow Copy: true
Allow Analysis: true
Allow Compute TiePoints: false
Supports Statistics: false
Supports Advanced Queries: false
Use StandardizedQueries: true
Raster Type Infos:
Name: Raster Dataset
Description: Supports all ArcGIS Raster Datasets
Help:
Has Raster Attribute Table: false
Edit Fields Info: null
Ownership Based AccessControl For Rasters: null
Child Resources:
Info
Histograms
Statistics
Key Properties
Legend
Raster Function Infos
Supported Operations:
Export Image
Identify
Measure
Compute Histograms
Compute Statistics Histograms
Get Samples
Compute Class Statistics
Query Boundary
Compute Pixel Location
Compute Angles
Validate
Project