View In:
ArcGIS JavaScript
ArcGIS Online Map Viewer
ArcGIS Earth
Service Description: BADEA/O794_TAN_29Jan2023
Name: BADEA/O794_TAN_29Jan2023
Description:
Single Fused Map Cache: false
Extent:
XMin: 37.69869638978127
YMin: -4.09236871725444
XMax: 37.77930475425666
YMax: -4.025135172108159
Spatial Reference: 4326
(4326)
LatestVCSWkid(0)
Initial Extent:
XMin: 37.69869638978127
YMin: -4.09236871725444
XMax: 37.77930475425666
YMax: -4.025135172108159
Spatial Reference: 4326
(4326)
LatestVCSWkid(0)
Full Extent:
XMin: 37.69869638978127
YMin: -4.09236871725444
XMax: 37.77930475425666
YMax: -4.025135172108159
Spatial Reference: 4326
(4326)
LatestVCSWkid(0)
Pixel Size X: 4.179631052337879E-6
Pixel Size Y: 4.179631054723417E-6
Band Count: 3
Pixel Type: U8
RasterFunction Infos: {"rasterFunctionInfos": [{
"name": "None",
"description": "",
"help": ""
}]}
Mensuration Capabilities: Basic
Inspection Capabilities:
Has Histograms: true
Has Colormap: false
Has Multi Dimensions : false
Rendering Rule:
Min Scale: 0
Max Scale: 0
Copyright Text:
Service Data Type: esriImageServiceDataTypeRGB
Min Values: 1, 1, 1
Max Values: 255, 255, 255
Mean Values: 144.7202218929832, 112.44815505038001, 88.41682574628138
Standard Deviation Values: 34.0246728148697, 21.55949998562599, 22.99858247827433
Object ID Field:
Fields:
None
Default Mosaic Method: Center
Allowed Mosaic Methods:
SortField:
SortValue: null
Mosaic Operator: First
Default Compression Quality: 75
Default Resampling Method: Bilinear
Max Record Count: null
Max Image Height: 4100
Max Image Width: 15000
Max Download Image Count: null
Max Mosaic Image Count: null
Allow Raster Function: true
Allow Copy: true
Allow Analysis: true
Allow Compute TiePoints: false
Supports Statistics: false
Supports Advanced Queries: false
Use StandardizedQueries: true
Raster Type Infos:
Name: Raster Dataset
Description: Supports all ArcGIS Raster Datasets
Help:
Has Raster Attribute Table: false
Edit Fields Info: null
Ownership Based AccessControl For Rasters: null
Child Resources:
Info
Histograms
Statistics
Key Properties
Legend
Raster Function Infos
Supported Operations:
Export Image
Identify
Measure
Compute Histograms
Compute Statistics Histograms
Get Samples
Compute Class Statistics
Query Boundary
Compute Pixel Location
Compute Angles
Validate
Project