View In:
ArcGIS JavaScript
ArcGIS Online Map Viewer
ArcGIS Earth
Service Description: BADEA/O786_Mozambique_August2022_WV03
Name: BADEA/O786_Mozambique_August2022_WV03
Description:
Single Fused Map Cache: false
Extent:
XMin: 34.70245687003617
YMin: -24.72098872947481
XMax: 34.71987546960969
YMax: -24.708532819516883
Spatial Reference: 4326
(4326)
LatestVCSWkid(0)
Initial Extent:
XMin: 34.70245687003617
YMin: -24.72098872947481
XMax: 34.71987546960969
YMax: -24.708532819516883
Spatial Reference: 4326
(4326)
LatestVCSWkid(0)
Full Extent:
XMin: 34.70245687003617
YMin: -24.72098872947481
XMax: 34.71987546960969
YMax: -24.708532819516883
Spatial Reference: 4326
(4326)
LatestVCSWkid(0)
Pixel Size X: 3.392132341483391E-6
Pixel Size Y: 3.392132341483842E-6
Band Count: 3
Pixel Type: U8
RasterFunction Infos: {"rasterFunctionInfos": [{
"name": "None",
"description": "",
"help": ""
}]}
Mensuration Capabilities: Basic
Inspection Capabilities:
Has Histograms: true
Has Colormap: false
Has Multi Dimensions : false
Rendering Rule:
Min Scale: 0
Max Scale: 0
Copyright Text:
Service Data Type: esriImageServiceDataTypeRGB
Min Values: 1, 1, 1
Max Values: 255, 255, 255
Mean Values: 92.85330462056076, 89.56803314856181, 73.43614436362016
Standard Deviation Values: 28.78437287100788, 24.412100098481552, 20.085087880486412
Object ID Field:
Fields:
None
Default Mosaic Method: Center
Allowed Mosaic Methods:
SortField:
SortValue: null
Mosaic Operator: First
Default Compression Quality: 75
Default Resampling Method: Bilinear
Max Record Count: null
Max Image Height: 4100
Max Image Width: 15000
Max Download Image Count: null
Max Mosaic Image Count: null
Allow Raster Function: true
Allow Copy: true
Allow Analysis: true
Allow Compute TiePoints: false
Supports Statistics: false
Supports Advanced Queries: false
Use StandardizedQueries: true
Raster Type Infos:
Name: Raster Dataset
Description: Supports all ArcGIS Raster Datasets
Help:
Has Raster Attribute Table: false
Edit Fields Info: null
Ownership Based AccessControl For Rasters: null
Child Resources:
Info
Histograms
Statistics
Key Properties
Legend
Raster Function Infos
Supported Operations:
Export Image
Identify
Measure
Compute Histograms
Compute Statistics Histograms
Get Samples
Compute Class Statistics
Query Boundary
Compute Pixel Location
Compute Angles
Validate
Project