View In:
ArcGIS JavaScript
ArcGIS Online Map Viewer
ArcGIS Earth
ArcMap
View Footprint In:
ArcGIS Online Map Viewer
Service Description: BADEA/O786B_Mozambique_Jan2022PL
Name: BADEA/O786B_Mozambique_Jan2022PL
Description:
Single Fused Map Cache: false
Extent:
XMin: 3854872.2099488676
YMin: -2856915.146097963
XMax: 3874444.866501422
YMax: -2837342.4895454086
Spatial Reference: 102100
(3857)
Initial Extent:
XMin: 3854872.2099488676
YMin: -2856915.146097963
XMax: 3874444.866501422
YMax: -2837342.4895454086
Spatial Reference: 102100
(3857)
Full Extent:
XMin: 3854872.2099488676
YMin: -2856915.146097963
XMax: 3874444.866501422
YMax: -2837342.4895454086
Spatial Reference: 102100
(3857)
Pixel Size X: 4.777314267160013
Pixel Size Y: 4.777314267160013
Band Count: 5
Pixel Type: U16
RasterFunction Infos: {"rasterFunctionInfos": [{
"name": "None",
"description": "",
"help": ""
}]}
Mensuration Capabilities: Basic
Has Histograms: true
Has Colormap: false
Has Multi Dimensions : false
Rendering Rule:
Min Scale: 0
Max Scale: 0
Copyright Text:
Service Data Type: esriImageServiceDataTypeGeneric
Min Values: 0, 29, 0, 0, 65535
Max Values: 5164, 5919, 7417, 9589, 65535
Mean Values: 355.690816283226, 517.2933154702187, 485.5611814856529, 1587.57990026474, 65535
Standard Deviation Values: 190.22873085253, 312.7606171029947, 453.5501095375024, 1608.4645772172248, 0
Object ID Field:
Fields:
None
Default Mosaic Method: Center
Allowed Mosaic Methods:
SortField:
SortValue: null
Mosaic Operator: First
Default Compression Quality: 75
Default Resampling Method: Bilinear
Max Record Count: null
Max Image Height: 4100
Max Image Width: 15000
Max Download Image Count: null
Max Mosaic Image Count: null
Allow Raster Function: true
Allow Copy: true
Allow Analysis: true
Allow Compute TiePoints: false
Supports Statistics: false
Supports Advanced Queries: false
Use StandardizedQueries: true
Raster Type Infos:
Name: Raster Dataset
Description: Supports all ArcGIS Raster Datasets
Help:
Has Raster Attribute Table: false
Edit Fields Info: null
Ownership Based AccessControl For Rasters: null
Child Resources:
Info
Histograms
Statistics
Key Properties
Legend
Raster Function Infos
Supported Operations:
Export Image
Identify
Measure
Compute Histograms
Compute Statistics Histograms
Get Samples
Compute Class Statistics
Query Boundary
Compute Pixel Location
Compute Angles
Validate
Project