View In:
ArcGIS JavaScript
ArcGIS Online Map Viewer
ArcGIS Earth
ArcMap
View Footprint In:
ArcGIS Online Map Viewer
Service Description: BADEA/O786B_Mozambique_20220804_NV
Name: BADEA/O786B_Mozambique_20220804_NV
Description:
Single Fused Map Cache: false
Extent:
XMin: 34.692378844848825
YMin: -24.72445888085953
XMax: 34.72821333090426
YMax: -24.701222774320367
Spatial Reference: 4326
(4326)
LatestVCSWkid(0)
Initial Extent:
XMin: 34.692378844848825
YMin: -24.72445888085953
XMax: 34.72821333090426
YMax: -24.701222774320367
Spatial Reference: 4326
(4326)
LatestVCSWkid(0)
Full Extent:
XMin: 34.692378844848825
YMin: -24.72445888085953
XMax: 34.72821333090426
YMax: -24.701222774320367
Spatial Reference: 4326
(4326)
LatestVCSWkid(0)
Pixel Size X: 3.3921323414838485E-6
Pixel Size Y: 3.3921323414835317E-6
Band Count: 3
Pixel Type: U8
RasterFunction Infos: {"rasterFunctionInfos": [{
"name": "None",
"description": "",
"help": ""
}]}
Mensuration Capabilities: Basic
Has Histograms: false
Has Colormap: false
Has Multi Dimensions : false
Rendering Rule:
Min Scale: 0
Max Scale: 0
Copyright Text:
Service Data Type: esriImageServiceDataTypeRGB
Min Values: N/A
Max Values: N/A
Mean Values: N/A
Standard Deviation Values: N/A
Object ID Field:
Fields:
None
Default Mosaic Method: Center
Allowed Mosaic Methods:
SortField:
SortValue: null
Mosaic Operator: First
Default Compression Quality: 75
Default Resampling Method: Bilinear
Max Record Count: null
Max Image Height: 4100
Max Image Width: 15000
Max Download Image Count: null
Max Mosaic Image Count: null
Allow Raster Function: true
Allow Copy: true
Allow Analysis: true
Allow Compute TiePoints: false
Supports Statistics: false
Supports Advanced Queries: false
Use StandardizedQueries: true
Raster Type Infos:
Name: Raster Dataset
Description: Supports all ArcGIS Raster Datasets
Help:
Has Raster Attribute Table: false
Edit Fields Info: null
Ownership Based AccessControl For Rasters: null
Child Resources:
Info
Statistics
Key Properties
Legend
Raster Function Infos
Supported Operations:
Export Image
Identify
Measure
Compute Histograms
Compute Statistics Histograms
Get Samples
Compute Class Statistics
Query Boundary
Compute Pixel Location
Compute Angles
Validate
Project