View In:
ArcGIS JavaScript
ArcGIS Online Map Viewer
ArcGIS Earth
ArcMap
View Footprint In:
ArcGIS Online Map Viewer
Service Description: BADEA/O783_Benin_Nov2021PL
Name: BADEA/O783_Benin_Nov2021PL
Description:
Single Fused Map Cache: false
Extent:
XMin: 176110.91315084323
YMin: 724011.5318228916
XMax: 195678.7923891306
YMax: 743579.4110611789
Spatial Reference: 102100
(3857)
Initial Extent:
XMin: 176110.91315084323
YMin: 724011.5318228916
XMax: 195678.7923891306
YMax: 743579.4110611789
Spatial Reference: 102100
(3857)
Full Extent:
XMin: 176110.91315084323
YMin: 724011.5318228916
XMax: 195678.7923891306
YMax: 743579.4110611789
Spatial Reference: 102100
(3857)
Pixel Size X: 4.777314267160001
Pixel Size Y: 4.777314267159994
Band Count: 5
Pixel Type: U16
RasterFunction Infos: {"rasterFunctionInfos": [{
"name": "None",
"description": "",
"help": ""
}]}
Mensuration Capabilities: Basic
Has Histograms: true
Has Colormap: false
Has Multi Dimensions : false
Rendering Rule:
Min Scale: 0
Max Scale: 0
Copyright Text:
Service Data Type: esriImageServiceDataTypeGeneric
Min Values: 92, 460, 244, 681, 65535
Max Values: 5326, 6261, 9726, 10000, 65535
Mean Values: 414.45112270116806, 793.6453692913055, 691.8096908926964, 3212.361357986927, 65535
Standard Deviation Values: 87.54367113941429, 108.33380155828648, 159.4960972770818, 559.6853565733401, 0
Object ID Field:
Fields:
None
Default Mosaic Method: Center
Allowed Mosaic Methods:
SortField:
SortValue: null
Mosaic Operator: First
Default Compression Quality: 75
Default Resampling Method: Bilinear
Max Record Count: null
Max Image Height: 4100
Max Image Width: 15000
Max Download Image Count: null
Max Mosaic Image Count: null
Allow Raster Function: true
Allow Copy: true
Allow Analysis: true
Allow Compute TiePoints: false
Supports Statistics: false
Supports Advanced Queries: false
Use StandardizedQueries: true
Raster Type Infos:
Name: Raster Dataset
Description: Supports all ArcGIS Raster Datasets
Help:
Has Raster Attribute Table: false
Edit Fields Info: null
Ownership Based AccessControl For Rasters: null
Child Resources:
Info
Histograms
Statistics
Key Properties
Legend
Raster Function Infos
Supported Operations:
Export Image
Identify
Measure
Compute Histograms
Compute Statistics Histograms
Get Samples
Compute Class Statistics
Query Boundary
Compute Pixel Location
Compute Angles
Validate
Project